FILENAME: O4810753.SWS.1116561.tif
QUADRANGLE_NAME: HARB
QUADRANT: SW
WEST_LONGITUDE: -107 30 0.00000
EAST_LONGITUDE: -107 26 15.00000
NORTH_LATITUDE: 48 11 15.00000
SOUTH_LATITUDE: 48 7 30.00000
PRODUCTION_DATE: 2000 11 7
RASTER_ORDER: LEFT_RIGHT/TOP_BOTTOM
BAND_ORGANIZATION: SINGLE FILE
BAND_CONTENT: BLACK&WHITE
BAND_CONTENT: UNDEFINED
BAND_CONTENT: UNDEFINED
BITS_PER_PIXEL: 8
SAMPLES_AND_LINES: 5523 7699
HORIZONTAL_DATUM: NAD83
HORIZONTAL_COORDINATE_SYSTEM: UTM
COORDINATE_ZONE: 13
HORIZONTAL_UNITS: METERS
HORIZONTAL_RESOLUTION: 1.00000
SECONDARY_HORIZONTAL_DATUM: NAD27
XY_ORIGIN: 313618.00000 5340464.00000
SECONDARY_XY_ORIGIN: 313661.27200 5340244.10700
NATION: US
NATION: "SCIENCE
STATE: MT
NW_QUAD_CORNER_XY: 314194.48200 5340162.63000
NE_QUAD_CORNER_XY: 318839.30700 5340013.37000
SE_QUAD_CORNERY_XY: 318619.03200 5333067.25000
SW_QUAD_CORNER_XY: 313968.55300 5333216.54600
SECONDARY_NW_QUAD_XY: 314188.61100 5339943.80400
SECONDARY_NE_QUAD_XY: 318833.58300 5339794.53900
SECONDARY_SE_QUAD_XY: 318613.30900 5332848.43200
SECONDARY_SW_QUAD_XY: 313962.68300 5332997.73300
RMSE_XY: 0.90000
IMAGE_SOURCE: BLACK AND WHITE FILM
SOURCE_IMAGE_ID: NAPP 9127 193
SOURCE_IMAGE_DATE: 1996 07 15
SOURCE_DEM_DATE: 1977 00 00
AGENCY: WESTERN MAPPING CENTER (WMC)
PRODUCER: UNDEFINED
PRODUCTION_SYSTEM: GIS/MAGIC
COMPRESSION: UNDEFINED
STANDARD_VERSION: 1996 12
METADATA_DATE: 2000 11 15
DATA_FILE_SIZE: 42527100
BYTE_COUNT: 5523
