FILENAME: O4810750.SWS.1112701.tif
QUADRANGLE_NAME: BENNETT LAKE
QUADRANT: SW
WEST_LONGITUDE: -107 52 30.00000
EAST_LONGITUDE: -107 48 45.00000
NORTH_LATITUDE: 48 11 15.00000
SOUTH_LATITUDE: 48 7 30.00000
PRODUCTION_DATE: 2000 11 2
RASTER_ORDER: LEFT_RIGHT/TOP_BOTTOM
BAND_ORGANIZATION: SINGLE FILE
BAND_CONTENT: BLACK&WHITE
BAND_CONTENT: UNDEFINED
BAND_CONTENT: UNDEFINED
BITS_PER_PIXEL: 8
SAMPLES_AND_LINES: 5557 7723
HORIZONTAL_DATUM: NAD83
HORIZONTAL_COORDINATE_SYSTEM: UTM
COORDINATE_ZONE: 13
HORIZONTAL_UNITS: METERS
HORIZONTAL_RESOLUTION: 1.00000
SECONDARY_HORIZONTAL_DATUM: NAD27
XY_ORIGIN: 285715.00000 5341440.00000
SECONDARY_XY_ORIGIN: 285758.38300 5341219.68100
NATION: US
NATION: "SCIENCE
STATE: MT
NW_QUAD_CORNER_XY: 286326.06800 5341137.63800
NE_QUAD_CORNER_XY: 290970.73700 5340965.67700
SE_QUAD_CORNERY_XY: 290716.53100 5334019.78600
SW_QUAD_CORNER_XY: 286066.20600 5334191.78900
SECONDARY_NW_QUAD_XY: 286319.31700 5340918.84300
SECONDARY_NE_QUAD_XY: 290964.13200 5340746.87600
SECONDARY_SE_QUAD_XY: 290709.92700 5333800.99800
SECONDARY_SW_QUAD_XY: 286059.45500 5333973.00600
RMSE_XY: 1.20000
IMAGE_SOURCE: BLACK AND WHITE FILM
SOURCE_IMAGE_ID: NAPP 9148 107
SOURCE_IMAGE_DATE: 1996 08 27
SOURCE_DEM_DATE: 1977 00 00
AGENCY: WESTERN MAPPING CENTER (WMC)
PRODUCER: UNDEFINED
PRODUCTION_SYSTEM: GIS/MAGIC
COMPRESSION: UNDEFINED
STANDARD_VERSION: 1996 12
METADATA_DATE: 2000 11 15
DATA_FILE_SIZE: 42922268
BYTE_COUNT: 5557
