FILENAME: O4810749.NWS.1112651.tif
QUADRANGLE_NAME: BENNETT LAKE NW
QUADRANT: NW
WEST_LONGITUDE: -108 0 0.00000
EAST_LONGITUDE: -107 56 15.00000
NORTH_LATITUDE: 48 15 0.00000
SOUTH_LATITUDE: 48 11 15.00000
PRODUCTION_DATE: 2000 11 2
RASTER_ORDER: LEFT_RIGHT/TOP_BOTTOM
BAND_ORGANIZATION: SINGLE FILE
BAND_CONTENT: BLACK&WHITE
BAND_CONTENT: UNDEFINED
BAND_CONTENT: UNDEFINED
BITS_PER_PIXEL: 8
SAMPLES_AND_LINES: 5564 7730
HORIZONTAL_DATUM: NAD83
HORIZONTAL_COORDINATE_SYSTEM: UTM
COORDINATE_ZONE: 13
HORIZONTAL_UNITS: METERS
HORIZONTAL_RESOLUTION: 1.00000
SECONDARY_HORIZONTAL_DATUM: NAD27
XY_ORIGIN: 276685.00000 5348741.00000
SECONDARY_XY_ORIGIN: 276728.37100 5348520.56700
NATION: US
NATION: "SCIENCE
STATE: MT
NW_QUAD_CORNER_XY: 277308.26100 5348438.73500
NE_QUAD_CORNER_XY: 281947.20900 5348259.24700
SE_QUAD_CORNERY_XY: 281681.42800 5341313.38400
SW_QUAD_CORNER_XY: 277036.81600 5341492.91500
SECONDARY_NW_QUAD_XY: 277301.21600 5348219.93900
SECONDARY_NE_QUAD_XY: 281940.31100 5348040.44600
SECONDARY_SE_QUAD_XY: 281674.53000 5341094.59500
SECONDARY_SW_QUAD_XY: 277029.77100 5341274.13200
RMSE_XY: 0.80000
IMAGE_SOURCE: BLACK AND WHITE FILM
SOURCE_IMAGE_ID: NAPP 9132 207
SOURCE_IMAGE_DATE: 1996 07 29
SOURCE_DEM_DATE: 1984 00 00
AGENCY: WESTERN MAPPING CENTER (WMC)
PRODUCER: UNDEFINED
PRODUCTION_SYSTEM: GIS/MAGIC
COMPRESSION: UNDEFINED
STANDARD_VERSION: 1996 12
METADATA_DATE: 2000 11 15
DATA_FILE_SIZE: 43015284
BYTE_COUNT: 5564
