FILENAME: O4810747.SES.1137101.tif
QUADRANGLE_NAME: ASHFORD COULEE
QUADRANT: SE
WEST_LONGITUDE: -107 11 15.00000
EAST_LONGITUDE: -107 7 30.00000
NORTH_LATITUDE: 48 18 45.00000
SOUTH_LATITUDE: 48 15 0.00000
PRODUCTION_DATE: 2001 3 1
RASTER_ORDER: LEFT_RIGHT/TOP_BOTTOM
BAND_ORGANIZATION: SINGLE FILE
BAND_CONTENT: BLACK&WHITE
BAND_CONTENT: UNDEFINED
BAND_CONTENT: UNDEFINED
BITS_PER_PIXEL: 8
SAMPLES_AND_LINES: 5490 7689
HORIZONTAL_DATUM: NAD83
HORIZONTAL_COORDINATE_SYSTEM: UTM
COORDINATE_ZONE: 13
HORIZONTAL_UNITS: meters
HORIZONTAL_RESOLUTION: 1.00000
SECONDARY_HORIZONTAL_DATUM: NAD27
XY_ORIGIN: 337264.00000 5353654.00000
SECONDARY_XY_ORIGIN: 337305.98600 5353433.30100
NATION: US
STATE: MT
NW_QUAD_CORNER_XY: 337814.74800 5353346.85500
NE_QUAD_CORNER_XY: 342448.36600 5353216.56900
SE_QUAD_CORNERY_XY: 342255.97700 5346270.15300
SW_QUAD_CORNER_XY: 337616.69600 5346400.47100
SECONDARY_NW_QUAD_XY: 337809.61100 5353127.98400
SECONDARY_NE_QUAD_XY: 342443.37500 5352997.69400
SECONDARY_SE_QUAD_XY: 342250.98700 5346051.28900
SECONDARY_SW_QUAD_XY: 337611.55900 5346181.61100
RMSE_XY: 2.29000
IMAGE_SOURCE: BLACK AND WHITE FILM
SOURCE_IMAGE_ID: NAPP 9101-200
SOURCE_IMAGE_DATE: 1996 7 15
SOURCE_IMAGE_ID: NAPP 9101-268
SOURCE_IMAGE_DATE: 1996 7 15
SOURCE_DEM_DATE: 1998 0 0
AGENCY: WESTERN MAPPING CENTER (WMC)
PRODUCER: WOOLPERT LLP
PRODUCTION_SYSTEM: INTERGRAPH ISPM, ISIR
COMPRESSION: UNDEFINED
STANDARD_VERSION: 1996 12
METADATA_DATE: 2001 4 3
DATA_FILE_SIZE: 42218100
BYTE_COUNT: 5490
