FILENAME: O4810746.NES.1116594.tif
QUADRANGLE_NAME: SPENCER POINT
QUADRANT: NE
WEST_LONGITUDE: -107 18 45.00000
EAST_LONGITUDE: -107 15 0.00000
NORTH_LATITUDE: 48 22 30.00000
SOUTH_LATITUDE: 48 18 45.00000
PRODUCTION_DATE: 2000 11 9
RASTER_ORDER: LEFT_RIGHT/TOP_BOTTOM
BAND_ORGANIZATION: SINGLE FILE
BAND_CONTENT: BLACK&WHITE
BAND_CONTENT: UNDEFINED
BAND_CONTENT: UNDEFINED
BITS_PER_PIXEL: 8
SAMPLES_AND_LINES: 5489 7689
HORIZONTAL_DATUM: NAD83
HORIZONTAL_COORDINATE_SYSTEM: UTM
COORDINATE_ZONE: 13
HORIZONTAL_UNITS: METERS
HORIZONTAL_RESOLUTION: 1.00000
SECONDARY_HORIZONTAL_DATUM: NAD27
XY_ORIGIN: 328198.00000 5360867.00000
SECONDARY_XY_ORIGIN: 328240.13900 5360646.60000
NATION: US
NATION: "SCIENCE
STATE: MT
NW_QUAD_CORNER_XY: 328757.16500 5360565.14400
NE_QUAD_CORNER_XY: 333385.06900 5360427.33400
SE_QUAD_CORNERY_XY: 333181.15300 5353480.92000
SW_QUAD_CORNER_XY: 328547.58100 5353618.76500
SECONDARY_NW_QUAD_XY: 328751.73400 5360346.27100
SECONDARY_NE_QUAD_XY: 333379.78400 5360208.45700
SECONDARY_SE_QUAD_XY: 333175.86900 5353262.05300
SECONDARY_SW_QUAD_XY: 328542.15000 5353399.90200
RMSE_XY: 1.10000
IMAGE_SOURCE: BLACK AND WHITE FILM
SOURCE_IMAGE_ID: NAPP 9127 022
SOURCE_IMAGE_DATE: 1996 07 15
SOURCE_DEM_DATE: 1977 00 00
AGENCY: WESTERN MAPPING CENTER (WMC)
PRODUCER: UNDEFINED
PRODUCTION_SYSTEM: GIS/MAGIC
COMPRESSION: UNDEFINED
STANDARD_VERSION: 1996 12
METADATA_DATE: 2000 11 15
DATA_FILE_SIZE: 42210410
BYTE_COUNT: 5489
