FILENAME: O4810743.NWS.1116659.tif
QUADRANGLE_NAME: CLANTON COULEE
QUADRANT: NW
WEST_LONGITUDE: -107 45 0.00000
EAST_LONGITUDE: -107 41 15.00000
NORTH_LATITUDE: 48 22 30.00000
SOUTH_LATITUDE: 48 18 45.00000
PRODUCTION_DATE: 2000 11 6
RASTER_ORDER: LEFT_RIGHT/TOP_BOTTOM
BAND_ORGANIZATION: SINGLE FILE
BAND_CONTENT: BLACK&WHITE
BAND_CONTENT: UNDEFINED
BAND_CONTENT: UNDEFINED
BITS_PER_PIXEL: 8
SAMPLES_AND_LINES: 5530 7715
HORIZONTAL_DATUM: NAD83
HORIZONTAL_COORDINATE_SYSTEM: UTM
COORDINATE_ZONE: 13
HORIZONTAL_UNITS: METERS
HORIZONTAL_RESOLUTION: 1.00000
SECONDARY_HORIZONTAL_DATUM: NAD27
XY_ORIGIN: 295762.00000 5361938.00000
SECONDARY_XY_ORIGIN: 295804.88500 5361717.67100
NATION: US
NATION: "SCIENCE
STATE: MT
NW_QUAD_CORNER_XY: 296362.54800 5361635.64400
NE_QUAD_CORNER_XY: 300990.27100 5361471.37500
SE_QUAD_CORNERY_XY: 300746.66000 5354525.22600
SW_QUAD_CORNER_XY: 296113.26600 5354689.53800
SECONDARY_NW_QUAD_XY: 296356.08900 5361416.80600
SECONDARY_NE_QUAD_XY: 300983.95900 5361252.53100
SECONDARY_SE_QUAD_XY: 300740.34900 5354306.39300
SECONDARY_SW_QUAD_XY: 296106.80700 5354470.70900
RMSE_XY: 1.80000
IMAGE_SOURCE: BLACK AND WHITE FILM
SOURCE_IMAGE_ID: NAPP 9131 211
SOURCE_IMAGE_DATE: 1996 07 29
SOURCE_DEM_DATE: 1977 00 00
AGENCY: WESTERN MAPPING CENTER (WMC)
PRODUCER: UNDEFINED
PRODUCTION_SYSTEM: GIS/MAGIC
COMPRESSION: UNDEFINED
STANDARD_VERSION: 1996 12
METADATA_DATE: 2000 11 15
DATA_FILE_SIZE: 42669480
BYTE_COUNT: 5530
