FILENAME: O4810741.NES.1112666.tif
QUADRANGLE_NAME: MALTA WEST
QUADRANT: NE
WEST_LONGITUDE: -107 56 15.00000
EAST_LONGITUDE: -107 52 30.00000
NORTH_LATITUDE: 48 22 30.00000
SOUTH_LATITUDE: 48 18 45.00000
PRODUCTION_DATE: 2000 11 6
RASTER_ORDER: LEFT_RIGHT/TOP_BOTTOM
BAND_ORGANIZATION: SINGLE FILE
BAND_CONTENT: BLACK&WHITE
BAND_CONTENT: UNDEFINED
BAND_CONTENT: UNDEFINED
BITS_PER_PIXEL: 8
SAMPLES_AND_LINES: 5547 7726
HORIZONTAL_DATUM: NAD83
HORIZONTAL_COORDINATE_SYSTEM: UTM
COORDINATE_ZONE: 13
HORIZONTAL_UNITS: METERS
HORIZONTAL_RESOLUTION: 1.00000
SECONDARY_HORIZONTAL_DATUM: NAD27
XY_ORIGIN: 281862.00000 5362453.00000
SECONDARY_XY_ORIGIN: 281905.04400 5362232.51000
NATION: US
NATION: "SCIENCE
STATE: MT
NW_QUAD_CORNER_XY: 282479.55500 5362151.14200
NE_QUAD_CORNER_XY: 287107.19000 5361975.52800
SE_QUAD_CORNERY_XY: 286846.56100 5355029.50800
SW_QUAD_CORNER_XY: 282213.25200 5355205.16700
SECONDARY_NW_QUAD_XY: 282472.65500 5361932.32000
SECONDARY_NE_QUAD_XY: 287100.43700 5361756.70000
SECONDARY_SE_QUAD_XY: 286839.80800 5354810.69000
SECONDARY_SW_QUAD_XY: 282206.35300 5354986.35500
RMSE_XY: 0.70000
IMAGE_SOURCE: BLACK AND WHITE FILM
SOURCE_IMAGE_ID: NAPP 9148 116
SOURCE_IMAGE_DATE: 1996 08 27
SOURCE_DEM_DATE: 1967 00 00
AGENCY: WESTERN MAPPING CENTER (WMC)
PRODUCER: UNDEFINED
PRODUCTION_SYSTEM: GIS/MAGIC
COMPRESSION: UNDEFINED
STANDARD_VERSION: 1996 12
METADATA_DATE: 2000 11 15
DATA_FILE_SIZE: 42861669
BYTE_COUNT: 5547
