FILENAME: O4810741.SWS.1112669.tif
QUADRANGLE_NAME: MALTA WEST
QUADRANT: SW
WEST_LONGITUDE: -108 0 0.00000
EAST_LONGITUDE: -107 56 15.00000
NORTH_LATITUDE: 48 18 45.00000
SOUTH_LATITUDE: 48 15 0.00000
PRODUCTION_DATE: 2000 11 2
RASTER_ORDER: LEFT_RIGHT/TOP_BOTTOM
BAND_ORGANIZATION: SINGLE FILE
BAND_CONTENT: BLACK&WHITE
BAND_CONTENT: UNDEFINED
BAND_CONTENT: UNDEFINED
BITS_PER_PIXEL: 8
SAMPLES_AND_LINES: 5559 7730
HORIZONTAL_DATUM: NAD83
HORIZONTAL_COORDINATE_SYSTEM: UTM
COORDINATE_ZONE: 13
HORIZONTAL_UNITS: METERS
HORIZONTAL_RESOLUTION: 1.00000
SECONDARY_HORIZONTAL_DATUM: NAD27
XY_ORIGIN: 276956.00000 5355687.00000
SECONDARY_XY_ORIGIN: 276999.23000 5355466.51000
NATION: US
NATION: "SCIENCE
STATE: MT
NW_QUAD_CORNER_XY: 277579.97200 5355384.60900
NE_QUAD_CORNER_XY: 282213.25200 5355205.16700
SE_QUAD_CORNERY_XY: 281947.20900 5348259.24700
SW_QUAD_CORNER_XY: 277308.26100 5348438.73500
SECONDARY_NW_QUAD_XY: 277572.92700 5355165.80200
SECONDARY_NE_QUAD_XY: 282206.35300 5354986.35500
SECONDARY_SE_QUAD_XY: 281940.31100 5348040.44600
SECONDARY_SW_QUAD_XY: 277301.21600 5348219.93900
RMSE_XY: 0.90000
IMAGE_SOURCE: BLACK AND WHITE FILM
SOURCE_IMAGE_ID: NAPP 9132 209
SOURCE_IMAGE_DATE: 1996 07 29
SOURCE_IMAGE_ID: NAPP 9132 208
SOURCE_IMAGE_DATE: 1996 07 29
SOURCE_DEM_DATE: 1967 00 00
AGENCY: WESTERN MAPPING CENTER (WMC)
PRODUCER: UNDEFINED
PRODUCTION_SYSTEM: GIS/MAGIC
COMPRESSION: UNDEFINED
STANDARD_VERSION: 1996 12
METADATA_DATE: 2000 11 15
DATA_FILE_SIZE: 42976629
BYTE_COUNT: 5559
