FILENAME: O4810740.SES.1137089.tif
QUADRANGLE_NAME: HINSDALE
QUADRANT: SE
WEST_LONGITUDE: -107 3 45.00000
EAST_LONGITUDE: -107 0 0.00000
NORTH_LATITUDE: 48 26 15.00000
SOUTH_LATITUDE: 48 22 30.00000
PRODUCTION_DATE: 2001 3 21
RASTER_ORDER: LEFT_RIGHT/TOP_BOTTOM
BAND_ORGANIZATION: SINGLE FILE
BAND_CONTENT: BLACK&WHITE
BAND_CONTENT: UNDEFINED
BAND_CONTENT: UNDEFINED
BITS_PER_PIXEL: 8
SAMPLES_AND_LINES: 5467 7683
HORIZONTAL_DATUM: NAD83
HORIZONTAL_COORDINATE_SYSTEM: UTM
COORDINATE_ZONE: 13
HORIZONTAL_UNITS: meters
HORIZONTAL_RESOLUTION: 1.00000
SECONDARY_HORIZONTAL_DATUM: NAD27
XY_ORIGIN: 346917.00000 5367291.00000
SECONDARY_XY_ORIGIN: 346958.25500 5367069.78400
NATION: US
STATE: MT
NW_QUAD_CORNER_XY: 347456.00700 5366983.15400
NE_QUAD_CORNER_XY: 352078.32600 5366860.49000
SE_QUAD_CORNERY_XY: 351896.90700 5359913.87900
SW_QUAD_CORNER_XY: 347268.91500 5360036.57500
SECONDARY_NW_QUAD_XY: 347451.16300 5366764.25600
SECONDARY_NE_QUAD_XY: 352073.62900 5366641.58700
SECONDARY_SE_QUAD_XY: 351892.21000 5359694.98600
SECONDARY_SW_QUAD_XY: 347264.07100 5359817.68600
RMSE_XY: 1.85000
IMAGE_SOURCE: BLACK AND WHITE FILM
SOURCE_IMAGE_ID: NAPP 9101-084
SOURCE_IMAGE_DATE: 1996 7 15
SOURCE_IMAGE_ID: NAPP 9101-085
SOURCE_IMAGE_DATE: 1996 7 15
SOURCE_IMAGE_ID: NAPP 9101-154
SOURCE_IMAGE_DATE: 1996 7 15
SOURCE_DEM_DATE: 1996 0 0
AGENCY: WESTERN MAPPING CENTER (WMC)
PRODUCER: WOOLPERT LLP
PRODUCTION_SYSTEM: INTERGRAPH ISPM, ISIR
COMPRESSION: UNDEFINED
STANDARD_VERSION: 1996 12
METADATA_DATE: 2001 4 3
DATA_FILE_SIZE: 42008428
BYTE_COUNT: 5467
