FILENAME: O4810739.SWS.1137086.tif
QUADRANGLE_NAME: HINSDALE NW
QUADRANT: SW
WEST_LONGITUDE: -107 15 0.00000
EAST_LONGITUDE: -107 11 15.00000
NORTH_LATITUDE: 48 26 15.00000
SOUTH_LATITUDE: 48 22 30.00000
PRODUCTION_DATE: 2001 3 21
RASTER_ORDER: LEFT_RIGHT/TOP_BOTTOM
BAND_ORGANIZATION: SINGLE FILE
BAND_CONTENT: BLACK&WHITE
BAND_CONTENT: UNDEFINED
BAND_CONTENT: UNDEFINED
BITS_PER_PIXEL: 8
SAMPLES_AND_LINES: 5485 7693
HORIZONTAL_DATUM: NAD83
HORIZONTAL_COORDINATE_SYSTEM: UTM
COORDINATE_ZONE: 13
HORIZONTAL_UNITS: meters
HORIZONTAL_RESOLUTION: 1.00000
SECONDARY_HORIZONTAL_DATUM: NAD27
XY_ORIGIN: 333032.00000 5367681.00000
SECONDARY_XY_ORIGIN: 333073.75000 5367460.38200
NATION: US
STATE: MT
NW_QUAD_CORNER_XY: 333589.18400 5367373.81200
NE_QUAD_CORNER_XY: 338211.43600 5367239.81500
SE_QUAD_CORNERY_XY: 338012.99500 5360293.30300
SW_QUAD_CORNER_XY: 333385.06900 5360427.33400
SECONDARY_NW_QUAD_XY: 333583.89900 5367154.92600
SECONDARY_NE_QUAD_XY: 338206.29800 5367020.92500
SECONDARY_SE_QUAD_XY: 338007.85700 5360074.42100
SECONDARY_SW_QUAD_XY: 333379.78400 5360208.45700
RMSE_XY: 2.31000
IMAGE_SOURCE: BLACK AND WHITE FILM
SOURCE_IMAGE_ID: NAPP 9101-271
SOURCE_IMAGE_DATE: 1996 7 15
SOURCE_DEM_DATE: 1998 0 0
AGENCY: WESTERN MAPPING CENTER (WMC)
PRODUCER: WOOLPERT LLP
PRODUCTION_SYSTEM: INTERGRAPH ISPM, ISIR
COMPRESSION: UNDEFINED
STANDARD_VERSION: 1996 12
METADATA_DATE: 2001 3 21
DATA_FILE_SIZE: 42201590
BYTE_COUNT: 5485
