FILENAME: O4810737.NWS.1116575.tif
QUADRANGLE_NAME: ROBINSON RANCH
QUADRANT: NW
WEST_LONGITUDE: -107 30 0.00000
EAST_LONGITUDE: -107 26 15.00000
NORTH_LATITUDE: 48 30 0.00000
SOUTH_LATITUDE: 48 26 15.00000
PRODUCTION_DATE: 2000 11 9
RASTER_ORDER: LEFT_RIGHT/TOP_BOTTOM
BAND_ORGANIZATION: SINGLE FILE
BAND_CONTENT: BLACK&WHITE
BAND_CONTENT: UNDEFINED
BAND_CONTENT: UNDEFINED
BITS_PER_PIXEL: 8
SAMPLES_AND_LINES: 5494 7700
HORIZONTAL_DATUM: NAD83
HORIZONTAL_COORDINATE_SYSTEM: UTM
COORDINATE_ZONE: 13
HORIZONTAL_UNITS: METERS
HORIZONTAL_RESOLUTION: 1.00000
SECONDARY_HORIZONTAL_DATUM: NAD27
XY_ORIGIN: 314751.00000 5375196.00000
SECONDARY_XY_ORIGIN: 314793.13300 5374975.97600
NATION: US
NATION: "SCIENCE
STATE: MT
NW_QUAD_CORNER_XY: 315327.45800 5374893.97000
NE_QUAD_CORNER_XY: 319943.92900 5374744.90000
SE_QUAD_CORNERY_XY: 319722.57200 5367798.47000
SW_QUAD_CORNER_XY: 315100.41900 5367947.57900
SECONDARY_NW_QUAD_XY: 315321.58600 5374675.09400
SECONDARY_NE_QUAD_XY: 319938.20400 5374526.01900
SECONDARY_SE_QUAD_XY: 319716.84700 5367579.59700
SECONDARY_SW_QUAD_XY: 315094.54700 5367728.71100
RMSE_XY: 1.20000
IMAGE_SOURCE: BLACK AND WHITE FILM
SOURCE_IMAGE_ID: NAPP 9127 203
SOURCE_IMAGE_DATE: 1996 07 15
SOURCE_DEM_DATE: 1984 00 00
AGENCY: WESTERN MAPPING CENTER (WMC)
PRODUCER: UNDEFINED
PRODUCTION_SYSTEM: GIS/MAGIC
COMPRESSION: UNDEFINED
STANDARD_VERSION: 1996 12
METADATA_DATE: 2000 11 15
DATA_FILE_SIZE: 42309294
BYTE_COUNT: 5494
