FILENAME: O4810736.NWS.1116707.tif
QUADRANGLE_NAME: BOWDOIN
QUADRANT: NW
WEST_LONGITUDE: -107 37 30.00000
EAST_LONGITUDE: -107 33 45.00000
NORTH_LATITUDE: 48 30 0.00000
SOUTH_LATITUDE: 48 26 15.00000
PRODUCTION_DATE: 2000 11 9
RASTER_ORDER: LEFT_RIGHT/TOP_BOTTOM
BAND_ORGANIZATION: SINGLE FILE
BAND_CONTENT: BLACK&WHITE
BAND_CONTENT: UNDEFINED
BAND_CONTENT: UNDEFINED
BITS_PER_PIXEL: 8
SAMPLES_AND_LINES: 5507 7707
HORIZONTAL_DATUM: NAD83
HORIZONTAL_COORDINATE_SYSTEM: UTM
COORDINATE_ZONE: 13
HORIZONTAL_UNITS: METERS
HORIZONTAL_RESOLUTION: 1.00000
SECONDARY_HORIZONTAL_DATUM: NAD27
XY_ORIGIN: 305506.00000 5375505.00000
SECONDARY_XY_ORIGIN: 305548.30400 5375284.76900
NATION: US
NATION: "SCIENCE
STATE: MT
NW_QUAD_CORNER_XY: 306094.59500 5375203.44500
NE_QUAD_CORNER_XY: 310711.01300 5375046.81800
SE_QUAD_CORNERY_XY: 310478.29200 5368100.46800
SW_QUAD_CORNER_XY: 305856.19200 5368257.13500
SECONDARY_NW_QUAD_XY: 306088.42900 5374984.57800
SECONDARY_NE_QUAD_XY: 310704.99400 5374827.94700
SECONDARY_SE_QUAD_XY: 310472.27300 5367881.60400
SECONDARY_SW_QUAD_XY: 305850.02600 5368038.27700
RMSE_XY: 0.60000
IMAGE_SOURCE: BLACK AND WHITE FILM
SOURCE_IMAGE_ID: NAPP 9125 025
SOURCE_IMAGE_DATE: 1996 06 20
SOURCE_DEM_DATE: 1984 00 00
AGENCY: WESTERN MAPPING CENTER (WMC)
PRODUCER: UNDEFINED
PRODUCTION_SYSTEM: GIS/MAGIC
COMPRESSION: UNDEFINED
STANDARD_VERSION: 1996 12
METADATA_DATE: 2000 11 15
DATA_FILE_SIZE: 42447956
BYTE_COUNT: 5507
