FILENAME: O4810736.SES.1116708.tif
QUADRANGLE_NAME: BOWDOIN
QUADRANT: SE
WEST_LONGITUDE: -107 33 45.00000
EAST_LONGITUDE: -107 30 0.00000
NORTH_LATITUDE: 48 26 15.00000
SOUTH_LATITUDE: 48 22 30.00000
PRODUCTION_DATE: 2000 11 9
RASTER_ORDER: LEFT_RIGHT/TOP_BOTTOM
BAND_ORGANIZATION: SINGLE FILE
BAND_CONTENT: BLACK&WHITE
BAND_CONTENT: UNDEFINED
BAND_CONTENT: UNDEFINED
BITS_PER_PIXEL: 8
SAMPLES_AND_LINES: 5506 7703
HORIZONTAL_DATUM: NAD83
HORIZONTAL_COORDINATE_SYSTEM: UTM
COORDINATE_ZONE: 13
HORIZONTAL_UNITS: METERS
HORIZONTAL_RESOLUTION: 1.00000
SECONDARY_HORIZONTAL_DATUM: NAD27
XY_ORIGIN: 309896.00000 5368402.00000
SECONDARY_XY_ORIGIN: 309938.45300 5368181.90800
NATION: US
NATION: "SCIENCE
STATE: MT
NW_QUAD_CORNER_XY: 310478.29200 5368100.46800
NE_QUAD_CORNER_XY: 315100.41900 5367947.57900
SE_QUAD_CORNERY_XY: 314873.60200 5361001.25000
SW_QUAD_CORNER_XY: 310245.79800 5361154.17800
SECONDARY_NW_QUAD_XY: 310472.27300 5367881.60400
SECONDARY_NE_QUAD_XY: 315094.54700 5367728.71100
SECONDARY_SE_QUAD_XY: 314867.73000 5360782.39100
SECONDARY_SW_QUAD_XY: 310239.78000 5360935.32400
RMSE_XY: 1.20000
IMAGE_SOURCE: BLACK AND WHITE FILM
SOURCE_IMAGE_ID: NAPP 9127 216
SOURCE_IMAGE_DATE: 1996 07 15
SOURCE_DEM_DATE: 1984 00 00
AGENCY: WESTERN MAPPING CENTER (WMC)
PRODUCER: UNDEFINED
PRODUCTION_SYSTEM: GIS/MAGIC
COMPRESSION: UNDEFINED
STANDARD_VERSION: 1996 12
METADATA_DATE: 2000 11 15
DATA_FILE_SIZE: 42418224
BYTE_COUNT: 5506
