FILENAME: O4810735.NES.1116678.tif
QUADRANGLE_NAME: LAKE BOWDOIN
QUADRANT: NE
WEST_LONGITUDE: -107 41 15.00000
EAST_LONGITUDE: -107 37 30.00000
NORTH_LATITUDE: 48 30 0.00000
SOUTH_LATITUDE: 48 26 15.00000
PRODUCTION_DATE: 2000 11 7
RASTER_ORDER: LEFT_RIGHT/TOP_BOTTOM
BAND_ORGANIZATION: SINGLE FILE
BAND_CONTENT: BLACK&WHITE
BAND_CONTENT: UNDEFINED
BAND_CONTENT: UNDEFINED
BITS_PER_PIXEL: 8
SAMPLES_AND_LINES: 5512 7711
HORIZONTAL_DATUM: NAD83
HORIZONTAL_COORDINATE_SYSTEM: UTM
COORDINATE_ZONE: 13
HORIZONTAL_UNITS: METERS
HORIZONTAL_RESOLUTION: 1.00000
SECONDARY_HORIZONTAL_DATUM: NAD27
XY_ORIGIN: 300884.00000 5375666.00000
SECONDARY_XY_ORIGIN: 300926.39700 5375445.68100
NATION: US
NATION: "SCIENCE
STATE: MT
NW_QUAD_CORNER_XY: 301478.20500 5375363.85000
NE_QUAD_CORNER_XY: 306094.59500 5375203.44500
SE_QUAD_CORNERY_XY: 305856.19200 5368257.13500
SW_QUAD_CORNER_XY: 301234.11900 5368417.58300
SECONDARY_NW_QUAD_XY: 301471.89300 5375144.98800
SECONDARY_NE_QUAD_XY: 306088.42900 5374984.57800
SECONDARY_SE_QUAD_XY: 305850.02600 5368038.27700
SECONDARY_SW_QUAD_XY: 301227.80700 5368198.72900
RMSE_XY: 0.80000
IMAGE_SOURCE: BLACK AND WHITE FILM
SOURCE_IMAGE_ID: NAPP 9131 080
SOURCE_IMAGE_DATE: 1996 07 29
SOURCE_DEM_DATE: 1984 00 00
AGENCY: WESTERN MAPPING CENTER (WMC)
PRODUCER: UNDEFINED
PRODUCTION_SYSTEM: GIS/MAGIC
COMPRESSION: UNDEFINED
STANDARD_VERSION: 1996 12
METADATA_DATE: 2000 11 15
DATA_FILE_SIZE: 42508544
BYTE_COUNT: 5512
