FILENAME: O4810735.NWS.1116679.tif
QUADRANGLE_NAME: LAKE BOWDOIN
QUADRANT: NW
WEST_LONGITUDE: -107 45 0.00000
EAST_LONGITUDE: -107 41 15.00000
NORTH_LATITUDE: 48 30 0.00000
SOUTH_LATITUDE: 48 26 15.00000
PRODUCTION_DATE: 2000 11 7
RASTER_ORDER: LEFT_RIGHT/TOP_BOTTOM
BAND_ORGANIZATION: SINGLE FILE
BAND_CONTENT: BLACK&WHITE
BAND_CONTENT: UNDEFINED
BAND_CONTENT: UNDEFINED
BITS_PER_PIXEL: 8
SAMPLES_AND_LINES: 5519 7715
HORIZONTAL_DATUM: NAD83
HORIZONTAL_COORDINATE_SYSTEM: UTM
COORDINATE_ZONE: 13
HORIZONTAL_UNITS: METERS
HORIZONTAL_RESOLUTION: 1.00000
SECONDARY_HORIZONTAL_DATUM: NAD27
XY_ORIGIN: 296261.00000 5375830.00000
SECONDARY_XY_ORIGIN: 296303.48900 5375609.59200
NATION: US
NATION: "SCIENCE
STATE: MT
NW_QUAD_CORNER_XY: 296861.84500 5375528.03300
NE_QUAD_CORNER_XY: 301478.20500 5375363.85000
SE_QUAD_CORNERY_XY: 301234.11900 5368417.58300
SW_QUAD_CORNER_XY: 296612.07500 5368581.81000
SECONDARY_NW_QUAD_XY: 296855.38500 5375309.17700
SECONDARY_NE_QUAD_XY: 301471.89300 5375144.98800
SECONDARY_SE_QUAD_XY: 301227.80700 5368198.72900
SECONDARY_SW_QUAD_XY: 296605.61500 5368362.96200
RMSE_XY: 1.10000
IMAGE_SOURCE: BLACK AND WHITE FILM
SOURCE_IMAGE_ID: NAPP 9148 127
SOURCE_IMAGE_DATE: 1996 08 27
SOURCE_DEM_DATE: 1984 00 00
AGENCY: WESTERN MAPPING CENTER (WMC)
PRODUCER: UNDEFINED
PRODUCTION_SYSTEM: GIS/MAGIC
COMPRESSION: UNDEFINED
STANDARD_VERSION: 1996 12
METADATA_DATE: 2000 11 15
DATA_FILE_SIZE: 42584604
BYTE_COUNT: 5519
