FILENAME: O4810734.NWS.1112711.tif
QUADRANGLE_NAME: MALTA NE
QUADRANT: NW
WEST_LONGITUDE: -107 52 30.00000
EAST_LONGITUDE: -107 48 45.00000
NORTH_LATITUDE: 48 30 0.00000
SOUTH_LATITUDE: 48 26 15.00000
PRODUCTION_DATE: 2000 11 7
RASTER_ORDER: LEFT_RIGHT/TOP_BOTTOM
BAND_ORGANIZATION: SINGLE FILE
BAND_CONTENT: BLACK&WHITE
BAND_CONTENT: UNDEFINED
BAND_CONTENT: UNDEFINED
BITS_PER_PIXEL: 8
SAMPLES_AND_LINES: 5530 7723
HORIZONTAL_DATUM: NAD83
HORIZONTAL_COORDINATE_SYSTEM: UTM
COORDINATE_ZONE: 13
HORIZONTAL_UNITS: METERS
HORIZONTAL_RESOLUTION: 1.00000
SECONDARY_HORIZONTAL_DATUM: NAD27
XY_ORIGIN: 287017.00000 5376170.00000
SECONDARY_XY_ORIGIN: 287059.66000 5375949.47200
NATION: US
NATION: "SCIENCE
STATE: MT
NW_QUAD_CORNER_XY: 287629.21200 5375867.73800
NE_QUAD_CORNER_XY: 292245.51300 5375695.99600
SE_QUAD_CORNERY_XY: 291990.05900 5368749.81700
SW_QUAD_CORNER_XY: 287368.07400 5368921.60500
SECONDARY_NW_QUAD_XY: 287622.45900 5375648.89300
SECONDARY_NE_QUAD_XY: 292238.90700 5375477.14500
SECONDARY_SE_QUAD_XY: 291983.45300 5368530.97400
SECONDARY_SW_QUAD_XY: 287361.32100 5368702.76800
RMSE_XY: 1.90000
IMAGE_SOURCE: BLACK AND WHITE FILM
SOURCE_IMAGE_ID: NAPP 9148 061
SOURCE_IMAGE_DATE: 1996 08 27
SOURCE_IMAGE_ID: NAPP 9148 059
SOURCE_IMAGE_DATE: 1996 08 27
SOURCE_IMAGE_ID: NAPP 9148 060
SOURCE_IMAGE_DATE: 1996 08 27
SOURCE_IMAGE_ID: NAPP 9148 062
SOURCE_IMAGE_DATE: 1996 08 27
SOURCE_DEM_DATE: 1993 00 00
AGENCY: WESTERN MAPPING CENTER (WMC)
PRODUCER: UNDEFINED
PRODUCTION_SYSTEM: GIS/MAGIC
COMPRESSION: UNDEFINED
STANDARD_VERSION: 1996 12
METADATA_DATE: 2000 11 15
DATA_FILE_SIZE: 42713720
BYTE_COUNT: 5530
