FILENAME: O4810734.SES.1112712.tif
QUADRANGLE_NAME: MALTA NE
QUADRANT: SE
WEST_LONGITUDE: -107 48 45.00000
EAST_LONGITUDE: -107 45 0.00000
NORTH_LATITUDE: 48 26 15.00000
SOUTH_LATITUDE: 48 22 30.00000
PRODUCTION_DATE: 2000 11 7
RASTER_ORDER: LEFT_RIGHT/TOP_BOTTOM
BAND_ORGANIZATION: SINGLE FILE
BAND_CONTENT: BLACK&WHITE
BAND_CONTENT: UNDEFINED
BAND_CONTENT: UNDEFINED
BITS_PER_PIXEL: 8
SAMPLES_AND_LINES: 5530 7719
HORIZONTAL_DATUM: NAD83
HORIZONTAL_COORDINATE_SYSTEM: UTM
COORDINATE_ZONE: 13
HORIZONTAL_UNITS: METERS
HORIZONTAL_RESOLUTION: 1.00000
SECONDARY_HORIZONTAL_DATUM: NAD27
XY_ORIGIN: 291384.00000 5369052.00000
SECONDARY_XY_ORIGIN: 291426.75500 5368831.57800
NATION: US
NATION: "SCIENCE
STATE: MT
NW_QUAD_CORNER_XY: 291990.05900 5368749.81700
NE_QUAD_CORNER_XY: 296612.07500 5368581.81000
SE_QUAD_CORNERY_XY: 296362.54800 5361635.64400
SW_QUAD_CORNER_XY: 291734.85400 5361803.69500
SECONDARY_NW_QUAD_XY: 291983.45300 5368530.97400
SECONDARY_NE_QUAD_XY: 296605.61500 5368362.96200
SECONDARY_SE_QUAD_XY: 296356.08900 5361416.80600
SECONDARY_SW_QUAD_XY: 291728.24900 5361584.86200
RMSE_XY: 1.60000
IMAGE_SOURCE: BLACK AND WHITE FILM
SOURCE_IMAGE_ID: NAPP 9148 100
SOURCE_IMAGE_DATE: 1996 08 27
SOURCE_DEM_DATE: 1993 00 00
AGENCY: WESTERN MAPPING CENTER (WMC)
PRODUCER: UNDEFINED
PRODUCTION_SYSTEM: GIS/MAGIC
COMPRESSION: UNDEFINED
STANDARD_VERSION: 1996 12
METADATA_DATE: 2000 11 15
DATA_FILE_SIZE: 42691600
BYTE_COUNT: 5530
