FILENAME: O4810734.SWS.1112713.tif
QUADRANGLE_NAME: MALTA NE
QUADRANT: SW
WEST_LONGITUDE: -107 52 30.00000
EAST_LONGITUDE: -107 48 45.00000
NORTH_LATITUDE: 48 26 15.00000
SOUTH_LATITUDE: 48 22 30.00000
PRODUCTION_DATE: 2000 11 7
RASTER_ORDER: LEFT_RIGHT/TOP_BOTTOM
BAND_ORGANIZATION: SINGLE FILE
BAND_CONTENT: BLACK&WHITE
BAND_CONTENT: UNDEFINED
BAND_CONTENT: UNDEFINED
BITS_PER_PIXEL: 8
SAMPLES_AND_LINES: 5536 7723
HORIZONTAL_DATUM: NAD83
HORIZONTAL_COORDINATE_SYSTEM: UTM
COORDINATE_ZONE: 13
HORIZONTAL_UNITS: METERS
HORIZONTAL_RESOLUTION: 1.00000
SECONDARY_HORIZONTAL_DATUM: NAD27
XY_ORIGIN: 286756.00000 5369224.00000
SECONDARY_XY_ORIGIN: 286798.82500 5369003.51900
NATION: US
NATION: "SCIENCE
STATE: MT
NW_QUAD_CORNER_XY: 287368.07400 5368921.60500
NE_QUAD_CORNER_XY: 291990.05900 5368749.81700
SE_QUAD_CORNERY_XY: 291734.85400 5361803.69500
SW_QUAD_CORNER_XY: 287107.19000 5361975.52800
SECONDARY_NW_QUAD_XY: 287361.32100 5368702.76800
SECONDARY_NE_QUAD_XY: 291983.45300 5368530.97400
SECONDARY_SE_QUAD_XY: 291728.24900 5361584.86200
SECONDARY_SW_QUAD_XY: 287100.43700 5361756.70000
RMSE_XY: 1.50000
IMAGE_SOURCE: BLACK AND WHITE FILM
SOURCE_IMAGE_ID: NAPP 9148 059
SOURCE_IMAGE_DATE: 1996 08 27
SOURCE_IMAGE_ID: NAPP 9148 060
SOURCE_IMAGE_DATE: 1996 08 27
SOURCE_IMAGE_ID: NAPP 9148 061
SOURCE_IMAGE_DATE: 1996 08 27
SOURCE_DEM_DATE: 1993 00 00
AGENCY: WESTERN MAPPING CENTER (WMC)
PRODUCER: UNDEFINED
PRODUCTION_SYSTEM: GIS/MAGIC
COMPRESSION: UNDEFINED
STANDARD_VERSION: 1996 12
METADATA_DATE: 2000 11 15
DATA_FILE_SIZE: 42760064
BYTE_COUNT: 5536
