FILENAME: O4810733.NES.1112662.tif
QUADRANGLE_NAME: MALTA NW
QUADRANT: NE
WEST_LONGITUDE: -107 56 15.00000
EAST_LONGITUDE: -107 52 30.00000
NORTH_LATITUDE: 48 30 0.00000
SOUTH_LATITUDE: 48 26 15.00000
PRODUCTION_DATE: 2000 11 7
RASTER_ORDER: LEFT_RIGHT/TOP_BOTTOM
BAND_ORGANIZATION: SINGLE FILE
BAND_CONTENT: BLACK&WHITE
BAND_CONTENT: UNDEFINED
BAND_CONTENT: UNDEFINED
BITS_PER_PIXEL: 8
SAMPLES_AND_LINES: 5536 7727
HORIZONTAL_DATUM: NAD83
HORIZONTAL_COORDINATE_SYSTEM: UTM
COORDINATE_ZONE: 13
HORIZONTAL_UNITS: METERS
HORIZONTAL_RESOLUTION: 1.00000
SECONDARY_HORIZONTAL_DATUM: NAD27
XY_ORIGIN: 282395.00000 5376346.00000
SECONDARY_XY_ORIGIN: 282437.74500 5376125.40800
NATION: US
NATION: "SCIENCE
STATE: MT
NW_QUAD_CORNER_XY: 283012.94200 5376043.26100
NE_QUAD_CORNER_XY: 287629.21200 5375867.73800
SE_QUAD_CORNERY_XY: 287368.07400 5368921.60500
SW_QUAD_CORNER_XY: 282746.11800 5369097.17300
SECONDARY_NW_QUAD_XY: 283006.04200 5375824.42100
SECONDARY_NE_QUAD_XY: 287622.45900 5375648.89300
SECONDARY_SE_QUAD_XY: 287361.32100 5368702.76800
SECONDARY_SW_QUAD_XY: 282739.21800 5368878.34200
RMSE_XY: 3.30000
IMAGE_SOURCE: BLACK AND WHITE FILM
SOURCE_IMAGE_ID: NAPP 9157 202
SOURCE_IMAGE_DATE: 1997 09 05
SOURCE_IMAGE_ID: NAPP 9148 062
SOURCE_IMAGE_DATE: 1996 08 27
SOURCE_DEM_DATE: 1967 00 00
AGENCY: WESTERN MAPPING CENTER (WMC)
PRODUCER: UNDEFINED
PRODUCTION_SYSTEM: GIS/MAGIC
COMPRESSION: UNDEFINED
STANDARD_VERSION: 1996 12
METADATA_DATE: 2000 11 15
DATA_FILE_SIZE: 42782208
BYTE_COUNT: 5536
