FILENAME: O4810733.SWS.1112665.tif
QUADRANGLE_NAME: MALTA NW
QUADRANT: SW
WEST_LONGITUDE: -108 0 0.00000
EAST_LONGITUDE: -107 56 15.00000
NORTH_LATITUDE: 48 26 15.00000
SOUTH_LATITUDE: 48 22 30.00000
PRODUCTION_DATE: 2000 11 7
RASTER_ORDER: LEFT_RIGHT/TOP_BOTTOM
BAND_ORGANIZATION: SINGLE FILE
BAND_CONTENT: BLACK&WHITE
BAND_CONTENT: UNDEFINED
BAND_CONTENT: UNDEFINED
BITS_PER_PIXEL: 8
SAMPLES_AND_LINES: 5548 7730
HORIZONTAL_DATUM: NAD83
HORIZONTAL_COORDINATE_SYSTEM: UTM
COORDINATE_ZONE: 13
HORIZONTAL_UNITS: METERS
HORIZONTAL_RESOLUTION: 1.00000
SECONDARY_HORIZONTAL_DATUM: NAD27
XY_ORIGIN: 277500.00000 5369579.00000
SECONDARY_XY_ORIGIN: 277542.96400 5369358.39900
NATION: US
NATION: "SCIENCE
STATE: MT
NW_QUAD_CORNER_XY: 278124.19400 5369276.52300
NE_QUAD_CORNER_XY: 282746.11800 5369097.17300
SE_QUAD_CORNERY_XY: 282479.55500 5362151.14200
SW_QUAD_CORNER_XY: 277851.95000 5362330.53800
SECONDARY_NW_QUAD_XY: 278117.14700 5369057.69700
SECONDARY_NE_QUAD_XY: 282739.21800 5368878.34200
SECONDARY_SE_QUAD_XY: 282472.65500 5361932.32000
SECONDARY_SW_QUAD_XY: 277844.90400 5362111.72200
RMSE_XY: 1.10000
IMAGE_SOURCE: BLACK AND WHITE FILM
SOURCE_IMAGE_ID: NAPP 9157 241
SOURCE_IMAGE_DATE: 1997 09 05
SOURCE_DEM_DATE: 1967 00 00
AGENCY: WESTERN MAPPING CENTER (WMC)
PRODUCER: UNDEFINED
PRODUCTION_SYSTEM: GIS/MAGIC
COMPRESSION: UNDEFINED
STANDARD_VERSION: 1996 12
METADATA_DATE: 2000 11 15
DATA_FILE_SIZE: 42891588
BYTE_COUNT: 5548
