FILENAME: O4810730.NES.1116610.tif
QUADRANGLE_NAME: DOUBLE S HILL
QUADRANT: NE
WEST_LONGITUDE: -107 18 45.00000
EAST_LONGITUDE: -107 15 0.00000
NORTH_LATITUDE: 48 37 30.00000
SOUTH_LATITUDE: 48 33 45.00000
PRODUCTION_DATE: 2000 11 10
RASTER_ORDER: LEFT_RIGHT/TOP_BOTTOM
BAND_ORGANIZATION: SINGLE FILE
BAND_CONTENT: BLACK&WHITE
BAND_CONTENT: UNDEFINED
BAND_CONTENT: UNDEFINED
BITS_PER_PIXEL: 8
SAMPLES_AND_LINES: 5465 7690
HORIZONTAL_DATUM: NAD83
HORIZONTAL_COORDINATE_SYSTEM: UTM
COORDINATE_ZONE: 13
HORIZONTAL_UNITS: METERS
HORIZONTAL_RESOLUTION: 1.00000
SECONDARY_HORIZONTAL_DATUM: NAD27
XY_ORIGIN: 329039.00000 5388654.00000
SECONDARY_XY_ORIGIN: 329080.22400 5388433.06400
NATION: US
NATION: "SCIENCE
STATE: MT
NW_QUAD_CORNER_XY: 329597.55400 5388351.29500
NE_QUAD_CORNER_XY: 334202.72400 5388213.63100
SE_QUAD_CORNERY_XY: 333998.01200 5381266.96100
SW_QUAD_CORNER_XY: 329387.15000 5381404.66200
SECONDARY_NW_QUAD_XY: 329592.12200 5388132.39000
SECONDARY_NE_QUAD_XY: 334197.43900 5387994.72200
SECONDARY_SE_QUAD_XY: 333992.72700 5381048.05800
SECONDARY_SW_QUAD_XY: 329381.71800 5381185.76400
RMSE_XY: 1.20000
IMAGE_SOURCE: BLACK AND WHITE FILM
SOURCE_IMAGE_ID: NAPP 9127 014
SOURCE_IMAGE_DATE: 1996 07 15
SOURCE_IMAGE_ID: NAPP 9127 013
SOURCE_IMAGE_DATE: 1996 07 15
SOURCE_DEM_DATE: 1974 00 00
AGENCY: WESTERN MAPPING CENTER (WMC)
PRODUCER: UNDEFINED
PRODUCTION_SYSTEM: GIS/MAGIC
COMPRESSION: UNDEFINED
STANDARD_VERSION: 1996 12
METADATA_DATE: 2000 11 15
DATA_FILE_SIZE: 42031315
BYTE_COUNT: 5465
