FILENAME: O4810728.NES.1116726.tif
QUADRANGLE_NAME: HEWITT LAKE
QUADRANT: NE
WEST_LONGITUDE: -107 33 45.00000
EAST_LONGITUDE: -107 30 0.00000
NORTH_LATITUDE: 48 37 30.00000
SOUTH_LATITUDE: 48 33 45.00000
PRODUCTION_DATE: 2000 11 10
RASTER_ORDER: LEFT_RIGHT/TOP_BOTTOM
BAND_ORGANIZATION: SINGLE FILE
BAND_CONTENT: BLACK&WHITE
BAND_CONTENT: UNDEFINED
BAND_CONTENT: UNDEFINED
BITS_PER_PIXEL: 8
SAMPLES_AND_LINES: 5490 7704
HORIZONTAL_DATUM: NAD83
HORIZONTAL_COORDINATE_SYSTEM: UTM
COORDINATE_ZONE: 13
HORIZONTAL_UNITS: METERS
HORIZONTAL_RESOLUTION: 1.00000
SECONDARY_HORIZONTAL_DATUM: NAD27
XY_ORIGIN: 310594.00000 5389242.00000
SECONDARY_XY_ORIGIN: 310635.70100 5389021.35500
NATION: US
NATION: "SCIENCE
STATE: MT
NW_QUAD_CORNER_XY: 311177.13400 5388939.70200
NE_QUAD_CORNER_XY: 315782.19800 5388786.93700
SE_QUAD_CORNERY_XY: 315554.71800 5381840.42300
SW_QUAD_CORNER_XY: 310943.96000 5381993.23000
SECONDARY_NW_QUAD_XY: 311171.11500 5388720.81600
SECONDARY_NE_QUAD_XY: 315776.32600 5388568.04600
SECONDARY_SE_QUAD_XY: 315548.84500 5381621.53900
SECONDARY_SW_QUAD_XY: 310937.94100 5381774.35100
RMSE_XY: 0.90000
IMAGE_SOURCE: BLACK AND WHITE FILM
SOURCE_IMAGE_ID: NAPP 9127 210
SOURCE_IMAGE_DATE: 1996 07 15
SOURCE_DEM_DATE: 1967 00 00
AGENCY: WESTERN MAPPING CENTER (WMC)
PRODUCER: UNDEFINED
PRODUCTION_SYSTEM: GIS/MAGIC
COMPRESSION: UNDEFINED
STANDARD_VERSION: 1996 12
METADATA_DATE: 2000 11 15
DATA_FILE_SIZE: 42300450
BYTE_COUNT: 5490
