FILENAME: O4810727.SWS.1116677.tif
QUADRANGLE_NAME: HEWITT LAKE SW
QUADRANT: SW
WEST_LONGITUDE: -107 45 0.00000
EAST_LONGITUDE: -107 41 15.00000
NORTH_LATITUDE: 48 33 45.00000
SOUTH_LATITUDE: 48 30 0.00000
PRODUCTION_DATE: 2000 11 7
RASTER_ORDER: LEFT_RIGHT/TOP_BOTTOM
BAND_ORGANIZATION: SINGLE FILE
BAND_CONTENT: BLACK&WHITE
BAND_CONTENT: UNDEFINED
BAND_CONTENT: UNDEFINED
BITS_PER_PIXEL: 8
SAMPLES_AND_LINES: 5513 7716
HORIZONTAL_DATUM: NAD83
HORIZONTAL_COORDINATE_SYSTEM: UTM
COORDINATE_ZONE: 13
HORIZONTAL_UNITS: METERS
HORIZONTAL_RESOLUTION: 1.00000
SECONDARY_HORIZONTAL_DATUM: NAD27
XY_ORIGIN: 296511.00000 5382777.00000
SECONDARY_XY_ORIGIN: 296553.29600 5382556.34000
NATION: US
NATION: "SCIENCE
STATE: MT
NW_QUAD_CORNER_XY: 297111.85800 5382474.31500
NE_QUAD_CORNER_XY: 301722.53000 5382310.17600
SE_QUAD_CORNERY_XY: 301478.20500 5375363.85000
SW_QUAD_CORNER_XY: 296861.84500 5375528.03300
SECONDARY_NW_QUAD_XY: 297105.39800 5382255.45100
SECONDARY_NE_QUAD_XY: 301716.21700 5382091.30700
SECONDARY_SE_QUAD_XY: 301471.89300 5375144.98800
SECONDARY_SW_QUAD_XY: 296855.38500 5375309.17700
RMSE_XY: 1.30000
IMAGE_SOURCE: BLACK AND WHITE FILM
SOURCE_IMAGE_ID: NAPP 9148 129
SOURCE_IMAGE_DATE: 1996 08 27
SOURCE_DEM_DATE: 1967 00 00
AGENCY: WESTERN MAPPING CENTER (WMC)
PRODUCER: UNDEFINED
PRODUCTION_SYSTEM: GIS/MAGIC
COMPRESSION: UNDEFINED
STANDARD_VERSION: 1996 12
METADATA_DATE: 2000 11 15
DATA_FILE_SIZE: 42543821
BYTE_COUNT: 5513
