FILENAME: O4810726.NWS.1112707.tif
QUADRANGLE_NAME: FANNY HILL
QUADRANT: NW
WEST_LONGITUDE: -107 52 30.00000
EAST_LONGITUDE: -107 48 45.00000
NORTH_LATITUDE: 48 37 30.00000
SOUTH_LATITUDE: 48 33 45.00000
PRODUCTION_DATE: 2000 11 7
RASTER_ORDER: LEFT_RIGHT/TOP_BOTTOM
BAND_ORGANIZATION: SINGLE FILE
BAND_CONTENT: BLACK&WHITE
BAND_CONTENT: UNDEFINED
BAND_CONTENT: UNDEFINED
BITS_PER_PIXEL: 8
SAMPLES_AND_LINES: 5519 7723
HORIZONTAL_DATUM: NAD83
HORIZONTAL_COORDINATE_SYSTEM: UTM
COORDINATE_ZONE: 13
HORIZONTAL_UNITS: METERS
HORIZONTAL_RESOLUTION: 1.00000
SECONDARY_HORIZONTAL_DATUM: NAD27
XY_ORIGIN: 287540.00000 5390063.00000
SECONDARY_XY_ORIGIN: 287582.28900 5389842.03600
NATION: US
NATION: "SCIENCE
STATE: MT
NW_QUAD_CORNER_XY: 288152.25200 5389760.17600
NE_QUAD_CORNER_XY: 292757.16700 5389588.52700
SE_QUAD_CORNERY_XY: 292501.21600 5382642.23300
SW_QUAD_CORNER_XY: 287890.60500 5382813.92900
SECONDARY_NW_QUAD_XY: 288145.49800 5389541.31700
SECONDARY_NE_QUAD_XY: 292750.56000 5389369.66200
SECONDARY_SE_QUAD_XY: 292494.60900 5382423.37400
SECONDARY_SW_QUAD_XY: 287883.85100 5382595.07600
RMSE_XY: 1.70000
IMAGE_SOURCE: BLACK AND WHITE FILM
SOURCE_IMAGE_ID: NAPP 9148 065
SOURCE_IMAGE_DATE: 1996 08 27
SOURCE_IMAGE_ID: NAPP 9157 207
SOURCE_IMAGE_DATE: 1997 09 05
SOURCE_DEM_DATE: 1975 00 00
AGENCY: WESTERN MAPPING CENTER (WMC)
PRODUCER: UNDEFINED
PRODUCTION_SYSTEM: GIS/MAGIC
COMPRESSION: UNDEFINED
STANDARD_VERSION: 1996 12
METADATA_DATE: 2000 11 15
DATA_FILE_SIZE: 42628756
BYTE_COUNT: 5519
