FILENAME: O4810726.SWS.1112709.tif
QUADRANGLE_NAME: FANNY HILL
QUADRANT: SW
WEST_LONGITUDE: -107 52 30.00000
EAST_LONGITUDE: -107 48 45.00000
NORTH_LATITUDE: 48 33 45.00000
SOUTH_LATITUDE: 48 30 0.00000
PRODUCTION_DATE: 2000 11 7
RASTER_ORDER: LEFT_RIGHT/TOP_BOTTOM
BAND_ORGANIZATION: SINGLE FILE
BAND_CONTENT: BLACK&WHITE
BAND_CONTENT: UNDEFINED
BAND_CONTENT: UNDEFINED
BITS_PER_PIXEL: 8
SAMPLES_AND_LINES: 5525 7723
HORIZONTAL_DATUM: NAD83
HORIZONTAL_COORDINATE_SYSTEM: UTM
COORDINATE_ZONE: 13
HORIZONTAL_UNITS: METERS
HORIZONTAL_RESOLUTION: 1.00000
SECONDARY_HORIZONTAL_DATUM: NAD27
XY_ORIGIN: 287278.00000 5383116.00000
SECONDARY_XY_ORIGIN: 287320.47600 5382895.24700
NATION: US
NATION: "SCIENCE
STATE: MT
NW_QUAD_CORNER_XY: 287890.60500 5382813.92900
NE_QUAD_CORNER_XY: 292501.21600 5382642.23300
SE_QUAD_CORNERY_XY: 292245.51300 5375695.99600
SW_QUAD_CORNER_XY: 287629.21200 5375867.73800
SECONDARY_NW_QUAD_XY: 287883.85100 5382595.07600
SECONDARY_NE_QUAD_XY: 292494.60900 5382423.37400
SECONDARY_SE_QUAD_XY: 292238.90700 5375477.14500
SECONDARY_SW_QUAD_XY: 287622.45900 5375648.89300
RMSE_XY: 1.80000
IMAGE_SOURCE: BLACK AND WHITE FILM
SOURCE_IMAGE_ID: NAPP 9148 063
SOURCE_IMAGE_DATE: 1996 08 27
SOURCE_DEM_DATE: 1975 00 00
AGENCY: WESTERN MAPPING CENTER (WMC)
PRODUCER: UNDEFINED
PRODUCTION_SYSTEM: GIS/MAGIC
COMPRESSION: UNDEFINED
STANDARD_VERSION: 1996 12
METADATA_DATE: 2000 11 15
DATA_FILE_SIZE: 42675100
BYTE_COUNT: 5525
