FILENAME: O4810724.SWS.1160065.tif
QUADRANGLE_NAME: PAPOOSE HILLS
QUADRANT: SW
WEST_LONGITUDE: -107 7 30.00000
EAST_LONGITUDE: -107 3 45.00000
NORTH_LATITUDE: 48 41 15.00000
SOUTH_LATITUDE: 48 37 30.00000
PRODUCTION_DATE: 2001 8 23
RASTER_ORDER: LEFT_RIGHT/TOP_BOTTOM
BAND_ORGANIZATION: SINGLE FILE
BAND_CONTENT: BLACK&WHITE
BAND_CONTENT: UNDEFINED
BAND_CONTENT: UNDEFINED
BITS_PER_PIXEL: 8
SAMPLES_AND_LINES: 5450 7687
HORIZONTAL_DATUM: NAD83
HORIZONTAL_COORDINATE_SYSTEM: UTM
COORDINATE_ZONE: 13
HORIZONTAL_UNITS: meters
HORIZONTAL_RESOLUTION: 1.00000
SECONDARY_HORIZONTAL_DATUM: NAD27
XY_ORIGIN: 343062.00000 5395205.00000
SECONDARY_XY_ORIGIN: 343102.68200 5394983.44000
NATION: US
STATE: MT
NW_QUAD_CORNER_XY: 343606.65800 5394896.43700
NE_QUAD_CORNER_XY: 348206.20500 5394770.13100
SE_QUAD_CORNERY_XY: 348018.38200 5387823.28800
SW_QUAD_CORNER_XY: 343413.13900 5387949.62800
SECONDARY_NW_QUAD_XY: 343601.66600 5394677.51300
SECONDARY_NE_QUAD_XY: 348201.36000 5394551.20400
SECONDARY_SE_QUAD_XY: 348013.53700 5387604.36700
SECONDARY_SW_QUAD_XY: 343408.14800 5387730.71100
RMSE_XY: 3.71000
IMAGE_SOURCE: BLACK AND WHITE FILM
SOURCE_IMAGE_ID: NAPP 9101-163
SOURCE_IMAGE_DATE: 1996 7 15
SOURCE_DEM_DATE: 1994 0 0
AGENCY: WESTERN MAPPING CENTER (WMC)
PRODUCER: WOOLPERT LLP
PRODUCTION_SYSTEM: INTERGRAPH ISPM, ISIR
COMPRESSION: UNDEFINED
STANDARD_VERSION: 1996 12
METADATA_DATE: 2001 8 23
DATA_FILE_SIZE: 41899600
BYTE_COUNT: 5450
