FILENAME: O4810723.NWS.1116639.tif
QUADRANGLE_NAME: GENEVIEVE
QUADRANT: NW
WEST_LONGITUDE: -107 15 0.00000
EAST_LONGITUDE: -107 11 15.00000
NORTH_LATITUDE: 48 45 0.00000
SOUTH_LATITUDE: 48 41 15.00000
PRODUCTION_DATE: 2000 11 8
RASTER_ORDER: LEFT_RIGHT/TOP_BOTTOM
BAND_ORGANIZATION: SINGLE FILE
BAND_CONTENT: BLACK&WHITE
BAND_CONTENT: UNDEFINED
BAND_CONTENT: UNDEFINED
BITS_PER_PIXEL: 8
SAMPLES_AND_LINES: 5448 7686
HORIZONTAL_DATUM: NAD83
HORIZONTAL_COORDINATE_SYSTEM: UTM
COORDINATE_ZONE: 13
HORIZONTAL_UNITS: METERS
HORIZONTAL_RESOLUTION: 1.00000
SECONDARY_HORIZONTAL_DATUM: NAD27
XY_ORIGIN: 334060.00000 5402410.00000
SECONDARY_XY_ORIGIN: 334100.67400 5402188.53800
NATION: US
NATION: "SCIENCE
STATE: MT
NW_QUAD_CORNER_XY: 334612.74500 5402107.16500
NE_QUAD_CORNER_XY: 339206.54200 5401973.35100
SE_QUAD_CORNERY_XY: 339007.13400 5395026.51400
SW_QUAD_CORNER_XY: 334407.63600 5395160.36600
SECONDARY_NW_QUAD_XY: 334607.46000 5401888.24500
SECONDARY_NE_QUAD_XY: 339201.40300 5401754.42700
SECONDARY_SE_QUAD_XY: 339001.99600 5394807.59500
SECONDARY_SW_QUAD_XY: 334402.35000 5394941.45100
RMSE_XY: 1.20000
IMAGE_SOURCE: BLACK AND WHITE FILM
SOURCE_IMAGE_ID: NAPP 9101 281
SOURCE_IMAGE_DATE: 1996 07 15
SOURCE_DEM_DATE: 1974 00 00
AGENCY: WESTERN MAPPING CENTER (WMC)
PRODUCER: UNDEFINED
PRODUCTION_SYSTEM: GIS/MAGIC
COMPRESSION: UNDEFINED
STANDARD_VERSION: 1996 12
METADATA_DATE: 2000 11 30
DATA_FILE_SIZE: 41878776
BYTE_COUNT: 5448
