FILENAME: O4810720.SES.1116724.tif
QUADRANGLE_NAME: TATTNALL
QUADRANT: SE
WEST_LONGITUDE: -107 33 45.00000
EAST_LONGITUDE: -107 30 0.00000
NORTH_LATITUDE: 48 41 15.00000
SOUTH_LATITUDE: 48 37 30.00000
PRODUCTION_DATE: 2000 11 8
RASTER_ORDER: LEFT_RIGHT/TOP_BOTTOM
BAND_ORGANIZATION: SINGLE FILE
BAND_CONTENT: BLACK&WHITE
BAND_CONTENT: UNDEFINED
BAND_CONTENT: UNDEFINED
BITS_PER_PIXEL: 8
SAMPLES_AND_LINES: 5483 7705
HORIZONTAL_DATUM: NAD83
HORIZONTAL_COORDINATE_SYSTEM: UTM
COORDINATE_ZONE: 13
HORIZONTAL_UNITS: METERS
HORIZONTAL_RESOLUTION: 1.00000
SECONDARY_HORIZONTAL_DATUM: NAD27
XY_ORIGIN: 310828.00000 5396189.00000
SECONDARY_XY_ORIGIN: 310869.44800 5395968.10900
NATION: US
NATION: "SCIENCE
STATE: MT
NW_QUAD_CORNER_XY: 311410.53400 5395886.23500
NE_QUAD_CORNER_XY: 316009.90000 5395733.51200
SE_QUAD_CORNERY_XY: 315782.19800 5388786.93700
SW_QUAD_CORNER_XY: 311177.13400 5388939.70200
SECONDARY_NW_QUAD_XY: 311404.51500 5395667.34300
SECONDARY_NE_QUAD_XY: 316004.02700 5395514.61500
SECONDARY_SE_QUAD_XY: 315776.32600 5388568.04600
SECONDARY_SW_QUAD_XY: 311171.11500 5388720.81600
RMSE_XY: 1.10000
IMAGE_SOURCE: BLACK AND WHITE FILM
SOURCE_IMAGE_ID: NAPP 9148 164
SOURCE_IMAGE_DATE: 1996 08 27
SOURCE_IMAGE_ID: NAPP 9148 162
SOURCE_IMAGE_DATE: 1996 08 27
SOURCE_DEM_DATE: 1967 00 00
AGENCY: WESTERN MAPPING CENTER (WMC)
PRODUCER: UNDEFINED
PRODUCTION_SYSTEM: GIS/MAGIC
COMPRESSION: UNDEFINED
STANDARD_VERSION: 1996 12
METADATA_DATE: 2000 11 15
DATA_FILE_SIZE: 42251998
BYTE_COUNT: 5483
