FILENAME: O4810719.NES.1116670.tif
QUADRANGLE_NAME: AUSTIN LAKE
QUADRANT: NE
WEST_LONGITUDE: -107 41 15.00000
EAST_LONGITUDE: -107 37 30.00000
NORTH_LATITUDE: 48 45 0.00000
SOUTH_LATITUDE: 48 41 15.00000
PRODUCTION_DATE: 2000 11 7
RASTER_ORDER: LEFT_RIGHT/TOP_BOTTOM
BAND_ORGANIZATION: SINGLE FILE
BAND_CONTENT: BLACK&WHITE
BAND_CONTENT: UNDEFINED
BAND_CONTENT: UNDEFINED
BITS_PER_PIXEL: 8
SAMPLES_AND_LINES: 5490 7712
HORIZONTAL_DATUM: NAD83
HORIZONTAL_COORDINATE_SYSTEM: UTM
COORDINATE_ZONE: 13
HORIZONTAL_UNITS: METERS
HORIZONTAL_RESOLUTION: 1.00000
SECONDARY_HORIZONTAL_DATUM: NAD27
XY_ORIGIN: 301862.00000 5403452.00000
SECONDARY_XY_ORIGIN: 301903.54600 5403230.69600
NATION: US
NATION: "SCIENCE
STATE: MT
NW_QUAD_CORNER_XY: 302456.92600 5403149.50900
NE_QUAD_CORNER_XY: 307050.52800 5402989.28200
SE_QUAD_CORNERY_XY: 306811.19800 5396042.73200
SW_QUAD_CORNER_XY: 302211.89000 5396203.00600
SECONDARY_NW_QUAD_XY: 302450.61200 5402930.62300
SECONDARY_NE_QUAD_XY: 307044.36200 5402770.39000
SECONDARY_SE_QUAD_XY: 306805.03100 5395823.84600
SECONDARY_SW_QUAD_XY: 302205.57700 5395984.12400
RMSE_XY: 1.30000
IMAGE_SOURCE: BLACK AND WHITE FILM
SOURCE_IMAGE_ID: NAPP 9131 072
SOURCE_IMAGE_DATE: 1996 07 29
SOURCE_DEM_DATE: 1967 00 00
AGENCY: WESTERN MAPPING CENTER (WMC)
PRODUCER: UNDEFINED
PRODUCTION_SYSTEM: GIS/MAGIC
COMPRESSION: UNDEFINED
STANDARD_VERSION: 1996 12
METADATA_DATE: 2000 11 15
DATA_FILE_SIZE: 42344370
BYTE_COUNT: 5490
