FILENAME: O4810716.NES.1160058.tif
QUADRANGLE_NAME: SNAKE CREEK SCHOOL
QUADRANT: NE
WEST_LONGITUDE: -107 3 45.00000
EAST_LONGITUDE: -107 0 0.00000
NORTH_LATITUDE: 48 52 30.00000
SOUTH_LATITUDE: 48 48 45.00000
PRODUCTION_DATE: 2001 8 23
RASTER_ORDER: LEFT_RIGHT/TOP_BOTTOM
BAND_ORGANIZATION: SINGLE FILE
BAND_CONTENT: BLACK&WHITE
BAND_CONTENT: UNDEFINED
BAND_CONTENT: UNDEFINED
BITS_PER_PIXEL: 8
SAMPLES_AND_LINES: 5427 7684
HORIZONTAL_DATUM: NAD83
HORIZONTAL_COORDINATE_SYSTEM: UTM
COORDINATE_ZONE: 13
HORIZONTAL_UNITS: meters
HORIZONTAL_RESOLUTION: 1.00000
SECONDARY_HORIZONTAL_DATUM: NAD27
XY_ORIGIN: 348232.00000 5415920.00000
SECONDARY_XY_ORIGIN: 348272.26600 5415697.77500
NATION: US
STATE: MT
NW_QUAD_CORNER_XY: 348770.76400 5415611.05700
NE_QUAD_CORNER_XY: 353353.21500 5415488.63100
SE_QUAD_CORNERY_XY: 353170.55900 5408541.55400
SW_QUAD_CORNER_XY: 348582.39600 5408664.01600
SECONDARY_NW_QUAD_XY: 348765.91900 5415392.11700
SECONDARY_NE_QUAD_XY: 353348.51600 5415269.68600
SECONDARY_SE_QUAD_XY: 353165.86000 5408322.61300
SECONDARY_SW_QUAD_XY: 348577.55100 5408445.07900
RMSE_XY: 4.25000
IMAGE_SOURCE: BLACK AND WHITE FILM
SOURCE_IMAGE_ID: NAPP 9101-070
SOURCE_IMAGE_DATE: 1996 7 15
SOURCE_DEM_DATE: 1998 0 0
AGENCY: WESTERN MAPPING CENTER (WMC)
PRODUCER: WOOLPERT LLP
PRODUCTION_SYSTEM: INTERGRAPH ISPM, ISIR
COMPRESSION: UNDEFINED
STANDARD_VERSION: 1996 12
METADATA_DATE: 2001 8 23
DATA_FILE_SIZE: 41706495
BYTE_COUNT: 5427
