FILENAME: O4810714.NWS.1116623.tif
QUADRANGLE_NAME: DEAD HORSE COULEE
QUADRANT: NW
WEST_LONGITUDE: -107 22 30.00000
EAST_LONGITUDE: -107 18 45.00000
NORTH_LATITUDE: 48 52 30.00000
SOUTH_LATITUDE: 48 48 45.00000
PRODUCTION_DATE: 2000 11 2
RASTER_ORDER: LEFT_RIGHT/TOP_BOTTOM
BAND_ORGANIZATION: SINGLE FILE
BAND_CONTENT: BLACK&WHITE
BAND_CONTENT: UNDEFINED
BAND_CONTENT: UNDEFINED
BITS_PER_PIXEL: 8
SAMPLES_AND_LINES: 5449 7694
HORIZONTAL_DATUM: NAD83
HORIZONTAL_COORDINATE_SYSTEM: UTM
COORDINATE_ZONE: 13
HORIZONTAL_UNITS: METERS
HORIZONTAL_RESOLUTION: 1.00000
SECONDARY_HORIZONTAL_DATUM: NAD27
XY_ORIGIN: 325294.00000 5416583.00000
SECONDARY_XY_ORIGIN: 325334.61800 5416361.12800
NATION: US
NATION: "SCIENCE
STATE: MT
NW_QUAD_CORNER_XY: 325858.88700 5416279.73900
NE_QUAD_CORNER_XY: 330441.21000 5416138.46200
SE_QUAD_CORNERY_XY: 330229.99000 5409191.57500
SW_QUAD_CORNER_XY: 325641.95400 5409332.89300
SECONDARY_NW_QUAD_XY: 325853.30700 5416060.82000
SECONDARY_NE_QUAD_XY: 330435.77700 5415919.53900
SECONDARY_SE_QUAD_XY: 330224.55800 5408972.65500
SECONDARY_SW_QUAD_XY: 325636.37400 5409113.97800
RMSE_XY: 1.60000
IMAGE_SOURCE: BLACK AND WHITE FILM
SOURCE_IMAGE_ID: NAPP 9127 109
SOURCE_IMAGE_DATE: 1996 07 15
SOURCE_IMAGE_ID: NAPP 9127 008
SOURCE_IMAGE_DATE: 1996 07 15
SOURCE_DEM_DATE: 1974 00 00
AGENCY: WESTERN MAPPING CENTER (WMC)
PRODUCER: UNDEFINED
PRODUCTION_SYSTEM: GIS/MAGIC
COMPRESSION: UNDEFINED
STANDARD_VERSION: 1996 12
METADATA_DATE: 2000 11 30
DATA_FILE_SIZE: 41930055
BYTE_COUNT: 5449
