FILENAME: O4810714.SES.1116624.tif
QUADRANGLE_NAME: DEAD HORSE COULEE
QUADRANT: SE
WEST_LONGITUDE: -107 18 45.00000
EAST_LONGITUDE: -107 15 0.00000
NORTH_LATITUDE: 48 48 45.00000
SOUTH_LATITUDE: 48 45 0.00000
PRODUCTION_DATE: 2000 11 9
RASTER_ORDER: LEFT_RIGHT/TOP_BOTTOM
BAND_ORGANIZATION: SINGLE FILE
BAND_CONTENT: BLACK&WHITE
BAND_CONTENT: UNDEFINED
BAND_CONTENT: UNDEFINED
BITS_PER_PIXEL: 8
SAMPLES_AND_LINES: 5449 7690
HORIZONTAL_DATUM: NAD83
HORIZONTAL_COORDINATE_SYSTEM: UTM
COORDINATE_ZONE: 13
HORIZONTAL_UNITS: METERS
HORIZONTAL_RESOLUTION: 1.00000
SECONDARY_HORIZONTAL_DATUM: NAD27
XY_ORIGIN: 329671.00000 5409495.00000
SECONDARY_XY_ORIGIN: 329711.65100 5409273.34800
NATION: US
NATION: "SCIENCE
STATE: MT
NW_QUAD_CORNER_XY: 330229.99000 5409191.57500
NE_QUAD_CORNER_XY: 334818.05300 5409054.02800
SE_QUAD_CORNERY_XY: 334612.74500 5402107.16500
SW_QUAD_CORNER_XY: 330018.97400 5402244.75100
SECONDARY_NW_QUAD_XY: 330224.55800 5408972.65500
SECONDARY_NE_QUAD_XY: 334812.76800 5408835.10400
SECONDARY_SE_QUAD_XY: 334607.46000 5401888.24500
SECONDARY_SW_QUAD_XY: 330013.54200 5402025.83600
RMSE_XY: 1.60000
IMAGE_SOURCE: BLACK AND WHITE FILM
SOURCE_IMAGE_ID: NAPP 9127 008
SOURCE_IMAGE_DATE: 1996 07 15
SOURCE_IMAGE_ID: NAPP 9127 107
SOURCE_IMAGE_DATE: 1996 07 15
SOURCE_IMAGE_ID: NAPP 9127 010
SOURCE_IMAGE_DATE: 1996 07 15
SOURCE_IMAGE_ID: NAPP 9127 007
SOURCE_IMAGE_DATE: 1996 07 15
SOURCE_DEM_DATE: 1974 00 00
AGENCY: WESTERN MAPPING CENTER (WMC)
PRODUCER: UNDEFINED
PRODUCTION_SYSTEM: GIS/MAGIC
COMPRESSION: UNDEFINED
STANDARD_VERSION: 1996 12
METADATA_DATE: 2000 11 30
DATA_FILE_SIZE: 41908259
BYTE_COUNT: 5449
