FILENAME: O4810712.SES.1116720.tif
QUADRANGLE_NAME: WHITEWATER EAST
QUADRANT: SE
WEST_LONGITUDE: -107 33 45.00000
EAST_LONGITUDE: -107 30 0.00000
NORTH_LATITUDE: 48 48 45.00000
SOUTH_LATITUDE: 48 45 0.00000
PRODUCTION_DATE: 2000 11 6
RASTER_ORDER: LEFT_RIGHT/TOP_BOTTOM
BAND_ORGANIZATION: SINGLE FILE
BAND_CONTENT: BLACK&WHITE
BAND_CONTENT: UNDEFINED
BAND_CONTENT: UNDEFINED
BITS_PER_PIXEL: 8
SAMPLES_AND_LINES: 5472 7705
HORIZONTAL_DATUM: NAD83
HORIZONTAL_COORDINATE_SYSTEM: UTM
COORDINATE_ZONE: 13
HORIZONTAL_UNITS: METERS
HORIZONTAL_RESOLUTION: 1.00000
SECONDARY_HORIZONTAL_DATUM: NAD27
XY_ORIGIN: 311295.00000 5410083.00000
SECONDARY_XY_ORIGIN: 311336.05100 5409861.50000
NATION: US
NATION: "SCIENCE
STATE: MT
NW_QUAD_CORNER_XY: 311878.01200 5409779.48200
NE_QUAD_CORNER_XY: 316465.96400 5409626.84700
SE_QUAD_CORNERY_XY: 316237.82200 5402680.14900
SW_QUAD_CORNER_XY: 311644.16000 5402832.82800
SECONDARY_NW_QUAD_XY: 311871.99200 5409560.58100
SECONDARY_NE_QUAD_XY: 316460.09100 5409407.94100
SECONDARY_SE_QUAD_XY: 316231.94900 5402461.24700
SECONDARY_SW_QUAD_XY: 311638.14100 5402613.93100
RMSE_XY: 0.90000
IMAGE_SOURCE: BLACK AND WHITE FILM
SOURCE_IMAGE_ID: NAPP 9148 160
SOURCE_IMAGE_DATE: 1996 08 27
SOURCE_IMAGE_ID: NAPP 9125 033
SOURCE_IMAGE_DATE: 1996 06 20
SOURCE_IMAGE_ID: NAPP 9125 035
SOURCE_IMAGE_DATE: 1996 06 20
SOURCE_IMAGE_ID: NAPP 9148 162
SOURCE_IMAGE_DATE: 1996 08 27
SOURCE_DEM_DATE: 1974 00 00
AGENCY: WESTERN MAPPING CENTER (WMC)
PRODUCER: UNDEFINED
PRODUCTION_SYSTEM: GIS/MAGIC
COMPRESSION: UNDEFINED
STANDARD_VERSION: 1996 12
METADATA_DATE: 2000 11 15
DATA_FILE_SIZE: 42167232
BYTE_COUNT: 5472
