FILENAME: O4810712.SWS.1116721.tif
QUADRANGLE_NAME: WHITEWATER EAST
QUADRANT: SW
WEST_LONGITUDE: -107 37 30.00000
EAST_LONGITUDE: -107 33 45.00000
NORTH_LATITUDE: 48 48 45.00000
SOUTH_LATITUDE: 48 45 0.00000
PRODUCTION_DATE: 2000 11 6
RASTER_ORDER: LEFT_RIGHT/TOP_BOTTOM
BAND_ORGANIZATION: SINGLE FILE
BAND_CONTENT: BLACK&WHITE
BAND_CONTENT: UNDEFINED
BAND_CONTENT: UNDEFINED
BITS_PER_PIXEL: 8
SAMPLES_AND_LINES: 5479 7709
HORIZONTAL_DATUM: NAD83
HORIZONTAL_COORDINATE_SYSTEM: UTM
COORDINATE_ZONE: 13
HORIZONTAL_UNITS: METERS
HORIZONTAL_RESOLUTION: 1.00000
SECONDARY_HORIZONTAL_DATUM: NAD27
XY_ORIGIN: 306701.00000 5410239.00000
SECONDARY_XY_ORIGIN: 306742.18600 5410017.40100
NATION: US
NATION: "SCIENCE
STATE: MT
NW_QUAD_CORNER_XY: 307290.09000 5409935.89100
NE_QUAD_CORNER_XY: 311878.01200 5409779.48200
SE_QUAD_CORNERY_XY: 311644.16000 5402832.82800
SW_QUAD_CORNER_XY: 307050.52800 5402989.28200
SECONDARY_NW_QUAD_XY: 307283.92300 5409716.99500
SECONDARY_NE_QUAD_XY: 311871.99200 5409560.58100
SECONDARY_SE_QUAD_XY: 311638.14100 5402613.93100
SECONDARY_SW_QUAD_XY: 307044.36200 5402770.39000
RMSE_XY: 0.60000
IMAGE_SOURCE: BLACK AND WHITE FILM
SOURCE_IMAGE_ID: NAPP 9125 035
SOURCE_IMAGE_DATE: 1996 06 20
SOURCE_IMAGE_ID: NAPP 9131 070
SOURCE_IMAGE_DATE: 1996 07 29
SOURCE_IMAGE_ID: NAPP 9148 161
SOURCE_IMAGE_DATE: 1996 08 27
SOURCE_DEM_DATE: 1974 00 00
AGENCY: WESTERN MAPPING CENTER (WMC)
PRODUCER: UNDEFINED
PRODUCTION_SYSTEM: GIS/MAGIC
COMPRESSION: UNDEFINED
STANDARD_VERSION: 1996 12
METADATA_DATE: 2000 11 15
DATA_FILE_SIZE: 42243090
BYTE_COUNT: 5479
