FILENAME: O4810710.NES.1112722.tif
QUADRANGLE_NAME: LORING
QUADRANT: NE
WEST_LONGITUDE: -107 48 45.00000
EAST_LONGITUDE: -107 45 0.00000
NORTH_LATITUDE: 48 52 30.00000
SOUTH_LATITUDE: 48 48 45.00000
PRODUCTION_DATE: 2000 11 8
RASTER_ORDER: LEFT_RIGHT/TOP_BOTTOM
BAND_ORGANIZATION: SINGLE FILE
BAND_CONTENT: BLACK&WHITE
BAND_CONTENT: UNDEFINED
BAND_CONTENT: UNDEFINED
BITS_PER_PIXEL: 8
SAMPLES_AND_LINES: 5490 7720
HORIZONTAL_DATUM: NAD83
HORIZONTAL_COORDINATE_SYSTEM: UTM
COORDINATE_ZONE: 13
HORIZONTAL_UNITS: METERS
HORIZONTAL_RESOLUTION: 1.00000
SECONDARY_HORIZONTAL_DATUM: NAD27
XY_ORIGIN: 293177.00000 5417678.00000
SECONDARY_XY_ORIGIN: 293218.27500 5417455.85300
NATION: US
NATION: "SCIENCE
STATE: MT
NW_QUAD_CORNER_XY: 293783.45100 5417374.28100
NE_QUAD_CORNER_XY: 298365.56300 5417206.60100
SE_QUAD_CORNERY_XY: 298114.33800 5410260.02700
SW_QUAD_CORNER_XY: 293526.50900 5410427.75600
SECONDARY_NW_QUAD_XY: 293776.84300 5417155.39700
SECONDARY_NE_QUAD_XY: 298359.10200 5416987.71200
SECONDARY_SE_QUAD_XY: 298107.87700 5410041.14100
SECONDARY_SW_QUAD_XY: 293519.90100 5410208.87600
RMSE_XY: 1.40000
IMAGE_SOURCE: BLACK AND WHITE FILM
SOURCE_IMAGE_ID: NAPP 9148 086
SOURCE_IMAGE_DATE: 1996 08 27
SOURCE_DEM_DATE: 1975 00 00
AGENCY: WESTERN MAPPING CENTER (WMC)
PRODUCER: UNDEFINED
PRODUCTION_SYSTEM: GIS/MAGIC
COMPRESSION: UNDEFINED
STANDARD_VERSION: 1996 12
METADATA_DATE: 2000 11 30
DATA_FILE_SIZE: 42388290
BYTE_COUNT: 5490
