FILENAME: O4810707.SWS.1116633.tif
QUADRANGLE_NAME: CROW CREEK DAM
QUADRANT: SW
WEST_LONGITUDE: -107 15 0.00000
EAST_LONGITUDE: -107 11 15.00000
NORTH_LATITUDE: 48 56 15.00000
SOUTH_LATITUDE: 48 52 30.00000
PRODUCTION_DATE: 2000 11 13
RASTER_ORDER: LEFT_RIGHT/TOP_BOTTOM
BAND_ORGANIZATION: SINGLE FILE
BAND_CONTENT: BLACK&WHITE
BAND_CONTENT: UNDEFINED
BAND_CONTENT: UNDEFINED
BITS_PER_PIXEL: 8
SAMPLES_AND_LINES: 5431 7687
HORIZONTAL_DATUM: NAD83
HORIZONTAL_COORDINATE_SYSTEM: UTM
COORDINATE_ZONE: 13
HORIZONTAL_UNITS: METERS
HORIZONTAL_RESOLUTION: 1.00000
SECONDARY_HORIZONTAL_DATUM: NAD27
XY_ORIGIN: 334676.00000 5423252.00000
SECONDARY_XY_ORIGIN: 334716.35600 5423029.70900
NATION: US
NATION: "SCIENCE
STATE: MT
NW_QUAD_CORNER_XY: 335229.26300 5422947.94600
NE_QUAD_CORNER_XY: 339805.92000 5422814.25000
SE_QUAD_CORNERY_XY: 339605.93500 5415867.21900
SW_QUAD_CORNER_XY: 335023.55900 5416000.95500
SECONDARY_NW_QUAD_XY: 335223.97700 5422729.01600
SECONDARY_NE_QUAD_XY: 339800.78200 5422595.31600
SECONDARY_SE_QUAD_XY: 339600.79600 5415648.28700
SECONDARY_SW_QUAD_XY: 335018.27400 5415782.02800
RMSE_XY: 1.40000
IMAGE_SOURCE: BLACK AND WHITE FILM
SOURCE_IMAGE_ID: NAPP 10763 046
SOURCE_IMAGE_DATE: 1997 09 20
SOURCE_IMAGE_ID: NAPP 9101 285
SOURCE_IMAGE_DATE: 1996 07 15
SOURCE_DEM_DATE: 1974 00 00
AGENCY: WESTERN MAPPING CENTER (WMC)
PRODUCER: UNDEFINED
PRODUCTION_SYSTEM: GIS/MAGIC
COMPRESSION: UNDEFINED
STANDARD_VERSION: 1996 12
METADATA_DATE: 2000 11 30
DATA_FILE_SIZE: 41753528
BYTE_COUNT: 5431
