FILENAME: O4810705.SES.1116588.tif
QUADRANGLE_NAME: THOENY HILLS WEST
QUADRANT: SE
WEST_LONGITUDE: -107 26 15.00000
EAST_LONGITUDE: -107 22 30.00000
NORTH_LATITUDE: 48 56 15.00000
SOUTH_LATITUDE: 48 52 30.00000
PRODUCTION_DATE: 2000 11 2
RASTER_ORDER: LEFT_RIGHT/TOP_BOTTOM
BAND_ORGANIZATION: SINGLE FILE
BAND_CONTENT: BLACK&WHITE
BAND_CONTENT: UNDEFINED
BAND_CONTENT: UNDEFINED
BITS_PER_PIXEL: 8
SAMPLES_AND_LINES: 5449 7698
HORIZONTAL_DATUM: NAD83
HORIZONTAL_COORDINATE_SYSTEM: UTM
COORDINATE_ZONE: 13
HORIZONTAL_UNITS: METERS
HORIZONTAL_RESOLUTION: 1.00000
SECONDARY_HORIZONTAL_DATUM: NAD27
XY_ORIGIN: 320929.00000 5423675.00000
SECONDARY_XY_ORIGIN: 320969.57700 5423452.87300
NATION: US
NATION: "SCIENCE
STATE: MT
NW_QUAD_CORNER_XY: 321499.45400 5423371.65200
NE_QUAD_CORNER_XY: 326076.02900 5423226.64700
SE_QUAD_CORNERY_XY: 325858.88700 5416279.73900
SW_QUAD_CORNER_XY: 321276.59200 5416424.78700
SECONDARY_NW_QUAD_XY: 321493.72700 5423152.73600
SECONDARY_NE_QUAD_XY: 326070.44900 5423007.72600
SECONDARY_SE_QUAD_XY: 325853.30700 5416060.82000
SECONDARY_SW_QUAD_XY: 321270.86600 5416205.87300
RMSE_XY: 1.10000
IMAGE_SOURCE: BLACK AND WHITE FILM
SOURCE_IMAGE_ID: NAPP 9148 184
SOURCE_IMAGE_DATE: 1996 08 27
SOURCE_IMAGE_ID: NAPP 9148 188
SOURCE_IMAGE_DATE: 1996 08 27
SOURCE_DEM_DATE: 1974 00 00
AGENCY: WESTERN MAPPING CENTER (WMC)
PRODUCER: UNDEFINED
PRODUCTION_SYSTEM: GIS/MAGIC
COMPRESSION: UNDEFINED
STANDARD_VERSION: 1996 12
METADATA_DATE: 2000 11 30
DATA_FILE_SIZE: 41951851
BYTE_COUNT: 5449
