FILENAME: O4810702.SWS.1112721.tif
QUADRANGLE_NAME: MORGAN
QUADRANT: SW
WEST_LONGITUDE: -107 52 30.00000
EAST_LONGITUDE: -107 48 45.00000
NORTH_LATITUDE: 48 56 15.00000
SOUTH_LATITUDE: 48 52 30.00000
PRODUCTION_DATE: 2000 11 8
RASTER_ORDER: LEFT_RIGHT/TOP_BOTTOM
BAND_ORGANIZATION: SINGLE FILE
BAND_CONTENT: BLACK&WHITE
BAND_CONTENT: UNDEFINED
BAND_CONTENT: UNDEFINED
BITS_PER_PIXEL: 8
SAMPLES_AND_LINES: 5490 7724
HORIZONTAL_DATUM: NAD83
HORIZONTAL_COORDINATE_SYSTEM: UTM
COORDINATE_ZONE: 13
HORIZONTAL_UNITS: METERS
HORIZONTAL_RESOLUTION: 1.00000
SECONDARY_HORIZONTAL_DATUM: NAD27
XY_ORIGIN: 288852.00000 5424796.00000
SECONDARY_XY_ORIGIN: 288893.13100 5424573.55600
NATION: US
NATION: "SCIENCE
STATE: MT
NW_QUAD_CORNER_XY: 289464.28400 5424492.26400
NE_QUAD_CORNER_XY: 294040.64000 5424320.86300
SE_QUAD_CORNERY_XY: 293783.45100 5417374.28100
SW_QUAD_CORNER_XY: 289201.37200 5417545.73300
SECONDARY_NW_QUAD_XY: 289457.53000 5424273.38400
SECONDARY_NE_QUAD_XY: 294034.03200 5424101.97700
SECONDARY_SE_QUAD_XY: 293776.84300 5417155.39700
SECONDARY_SW_QUAD_XY: 289194.61800 5417326.85500
RMSE_XY: 1.20000
IMAGE_SOURCE: BLACK AND WHITE FILM
SOURCE_IMAGE_ID: NAPP 9148 075
SOURCE_IMAGE_DATE: 1996 08 27
SOURCE_DEM_DATE: 1975 00 00
AGENCY: WESTERN MAPPING CENTER (WMC)
PRODUCER: UNDEFINED
PRODUCTION_SYSTEM: GIS/MAGIC
COMPRESSION: UNDEFINED
STANDARD_VERSION: 1996 12
METADATA_DATE: 2000 11 30
DATA_FILE_SIZE: 42410250
BYTE_COUNT: 5490
