FILENAME: O4810963.SES.1080651.tif
QUADRANGLE_NAME: RUNYAN BENCH
QUADRANT: SE
WEST_LONGITUDE: -109 11 15.00000
EAST_LONGITUDE: -109 7 30.00000
NORTH_LATITUDE: 48 3 45.00000
SOUTH_LATITUDE: 48 0 0.00000
PRODUCTION_DATE: 2000 5 19
RASTER_ORDER: LEFT_RIGHT/TOP_BOTTOM
BAND_ORGANIZATION: SINGLE FILE
BAND_CONTENT: BLACK&WHITE
BAND_CONTENT: UNDEFINED
BAND_CONTENT: UNDEFINED
BITS_PER_PIXEL: 8
SAMPLES_AND_LINES: 5482 7664
HORIZONTAL_DATUM: NAD83
HORIZONTAL_COORDINATE_SYSTEM: UTM
COORDINATE_ZONE: 12
HORIZONTAL_UNITS: METERS
HORIZONTAL_RESOLUTION: 1.00000
SECONDARY_HORIZONTAL_DATUM: NAD27
XY_ORIGIN: 634683.00000 5325248.00000
SECONDARY_XY_ORIGIN: 634741.56500 5325031.82200
NATION: US
NATION: "SCIENCE
STATE: MT
NW_QUAD_CORNER_XY: 635038.58600 5324835.97900
NE_QUAD_CORNER_XY: 639694.91700 5324947.47900
SE_QUAD_CORNERY_XY: 639863.98900 5318001.21400
SW_QUAD_CORNER_XY: 635202.02000 5317889.68900
SECONDARY_NW_QUAD_XY: 635042.84200 5324617.13400
SECONDARY_NE_QUAD_XY: 639699.31900 5324728.63700
SECONDARY_SE_QUAD_XY: 639868.39100 5317782.38700
SECONDARY_SW_QUAD_XY: 635206.27500 5317670.85900
RMSE_XY: 1.20000
IMAGE_SOURCE: BLACK AND WHITE FILM
SOURCE_IMAGE_ID: NAPP 9130 032
SOURCE_IMAGE_DATE: 1996 07 27
SOURCE_IMAGE_ID: NAPP 9130 033
SOURCE_IMAGE_DATE: 1996 07 27
SOURCE_IMAGE_ID: NAPP 9130 031
SOURCE_IMAGE_DATE: 1996 07 27
SOURCE_DEM_DATE: 1987 00 00
AGENCY: WESTERN MAPPING CENTER (WMC)
PRODUCER: UNDEFINED
PRODUCTION_SYSTEM: GIS/MAGIC
COMPRESSION: UNDEFINED
STANDARD_VERSION: 1996 12
METADATA_DATE: 2000 06 14
DATA_FILE_SIZE: 42019530
BYTE_COUNT: 5482
