FILENAME: O4810962.NES.1080637.tif
QUADRANGLE_NAME: WILLIAMSON BUTTE
QUADRANT: NE
WEST_LONGITUDE: -109 18 45.00000
EAST_LONGITUDE: -109 15 0.00000
NORTH_LATITUDE: 48 7 30.00000
SOUTH_LATITUDE: 48 3 45.00000
PRODUCTION_DATE: 2000 5 19
RASTER_ORDER: LEFT_RIGHT/TOP_BOTTOM
BAND_ORGANIZATION: SINGLE FILE
BAND_CONTENT: BLACK&WHITE
BAND_CONTENT: UNDEFINED
BAND_CONTENT: UNDEFINED
BITS_PER_PIXEL: 8
SAMPLES_AND_LINES: 5467 7656
HORIZONTAL_DATUM: NAD83
HORIZONTAL_COORDINATE_SYSTEM: UTM
COORDINATE_ZONE: 12
HORIZONTAL_UNITS: METERS
HORIZONTAL_RESOLUTION: 1.00000
SECONDARY_HORIZONTAL_DATUM: NAD27
XY_ORIGIN: 625217.00000 5331975.00000
SECONDARY_XY_ORIGIN: 625275.59300 5331758.61800
NATION: US
NATION: "SCIENCE
STATE: MT
NW_QUAD_CORNER_XY: 625573.56900 5331570.73300
NE_QUAD_CORNER_XY: 630224.28800 5331674.64500
SE_QUAD_CORNERY_XY: 630382.23900 5324728.26100
SW_QUAD_CORNER_XY: 625725.87600 5324624.32500
SECONDARY_NW_QUAD_XY: 625577.53100 5331351.86800
SECONDARY_NE_QUAD_XY: 630228.39700 5331455.78300
SECONDARY_SE_QUAD_XY: 630386.34800 5324509.41300
SECONDARY_SW_QUAD_XY: 625729.83700 5324405.47300
RMSE_XY: 2.10000
IMAGE_SOURCE: BLACK AND WHITE FILM
SOURCE_IMAGE_ID: NAPP 9156 024
SOURCE_IMAGE_DATE: 1997 08 29
SOURCE_IMAGE_ID: NAPP 9160 056
SOURCE_IMAGE_DATE: 1997 09 23
SOURCE_IMAGE_ID: NAPP 9156 025
SOURCE_IMAGE_DATE: 1997 08 29
SOURCE_IMAGE_ID: NAPP 9163 029
SOURCE_IMAGE_DATE: 1998 07 23
SOURCE_DEM_DATE: 1987 00 00
AGENCY: WESTERN MAPPING CENTER (WMC)
PRODUCER: UNDEFINED
PRODUCTION_SYSTEM: GIS/MAGIC
COMPRESSION: UNDEFINED
STANDARD_VERSION: 1996 12
METADATA_DATE: 2000 06 14
DATA_FILE_SIZE: 41860819
BYTE_COUNT: 5467
