FILENAME: O4810962.SES.1080639.tif
QUADRANGLE_NAME: WILLIAMSON BUTTE
QUADRANT: SE
WEST_LONGITUDE: -109 18 45.00000
EAST_LONGITUDE: -109 15 0.00000
NORTH_LATITUDE: 48 3 45.00000
SOUTH_LATITUDE: 48 0 0.00000
PRODUCTION_DATE: 2000 5 19
RASTER_ORDER: LEFT_RIGHT/TOP_BOTTOM
BAND_ORGANIZATION: SINGLE FILE
BAND_CONTENT: BLACK&WHITE
BAND_CONTENT: UNDEFINED
BAND_CONTENT: UNDEFINED
BITS_PER_PIXEL: 8
SAMPLES_AND_LINES: 5472 7656
HORIZONTAL_DATUM: NAD83
HORIZONTAL_COORDINATE_SYSTEM: UTM
COORDINATE_ZONE: 12
HORIZONTAL_UNITS: METERS
HORIZONTAL_RESOLUTION: 1.00000
SECONDARY_HORIZONTAL_DATUM: NAD27
XY_ORIGIN: 625370.00000 5325029.00000
SECONDARY_XY_ORIGIN: 625428.63700 5324812.81700
NATION: US
NATION: "SCIENCE
STATE: MT
NW_QUAD_CORNER_XY: 625725.87600 5324624.32500
NE_QUAD_CORNER_XY: 630382.23900 5324728.26100
SE_QUAD_CORNERY_XY: 630540.03400 5317781.94700
SW_QUAD_CORNER_XY: 625878.03200 5317677.98700
SECONDARY_NW_QUAD_XY: 625729.83700 5324405.47300
SECONDARY_NE_QUAD_XY: 630386.34800 5324509.41300
SECONDARY_SE_QUAD_XY: 630544.14200 5317563.11300
SECONDARY_SW_QUAD_XY: 625881.99300 5317459.14900
RMSE_XY: 2.20000
IMAGE_SOURCE: BLACK AND WHITE FILM
SOURCE_IMAGE_ID: NAPP 9156 026
SOURCE_IMAGE_DATE: 1997 08 29
SOURCE_IMAGE_ID: NAPP 9160 056
SOURCE_IMAGE_DATE: 1997 09 23
SOURCE_IMAGE_ID: NAPP 9156 027
SOURCE_IMAGE_DATE: 1997 08 29
SOURCE_IMAGE_ID: NAPP 9156 025
SOURCE_IMAGE_DATE: 1997 08 29
SOURCE_DEM_DATE: 1987 00 00
AGENCY: WESTERN MAPPING CENTER (WMC)
PRODUCER: UNDEFINED
PRODUCTION_SYSTEM: GIS/MAGIC
COMPRESSION: UNDEFINED
STANDARD_VERSION: 1996 12
METADATA_DATE: 2000 06 14
DATA_FILE_SIZE: 41899104
BYTE_COUNT: 5472
