FILENAME: O4810961.NWS.1080634.tif
QUADRANGLE_NAME: BLUE STONE PEAK
QUADRANT: NW
WEST_LONGITUDE: -109 30 0.00000
EAST_LONGITUDE: -109 26 15.00000
NORTH_LATITUDE: 48 7 30.00000
SOUTH_LATITUDE: 48 3 45.00000
PRODUCTION_DATE: 2000 6 5
RASTER_ORDER: LEFT_RIGHT/TOP_BOTTOM
BAND_ORGANIZATION: SINGLE FILE
BAND_CONTENT: BLACK&WHITE
BAND_CONTENT: UNDEFINED
BAND_CONTENT: UNDEFINED
BITS_PER_PIXEL: 8
SAMPLES_AND_LINES: 5451 7645
HORIZONTAL_DATUM: NAD83
HORIZONTAL_COORDINATE_SYSTEM: UTM
COORDINATE_ZONE: 12
HORIZONTAL_UNITS: METERS
HORIZONTAL_RESOLUTION: 1.00000
SECONDARY_HORIZONTAL_DATUM: NAD27
XY_ORIGIN: 611264.00000 5331675.00000
SECONDARY_XY_ORIGIN: 611322.86500 5331458.55900
NATION: US
NATION: "SCIENCE
STATE: MT
NW_QUAD_CORNER_XY: 611621.31500 5331281.67900
NE_QUAD_CORNER_XY: 616272.08100 5331374.25000
SE_QUAD_CORNERY_XY: 616413.10100 5324427.79600
SW_QUAD_CORNER_XY: 611756.69200 5324335.20300
SECONDARY_NW_QUAD_XY: 611624.83700 5331062.80400
SECONDARY_NE_QUAD_XY: 616275.75000 5331155.37900
SECONDARY_SE_QUAD_XY: 616416.77000 5324208.93800
SECONDARY_SW_QUAD_XY: 611760.21300 5324116.34200
RMSE_XY: 2.40000
IMAGE_SOURCE: BLACK AND WHITE FILM
SOURCE_IMAGE_ID: NAPP 9159 037
SOURCE_IMAGE_DATE: 1997 09 22
SOURCE_IMAGE_ID: NAPP 9159 097
SOURCE_IMAGE_DATE: 1997 09 22
SOURCE_IMAGE_ID: NAPP 9159 036
SOURCE_IMAGE_DATE: 1997 09 22
SOURCE_IMAGE_ID: NAPP 9160 053
SOURCE_IMAGE_DATE: 1997 09 23
SOURCE_DEM_DATE: 1983 00 00
AGENCY: WESTERN MAPPING CENTER (WMC)
PRODUCER: UNDEFINED
PRODUCTION_SYSTEM: GIS/MAGIC
COMPRESSION: UNDEFINED
STANDARD_VERSION: 1996 12
METADATA_DATE: 2000 06 14
DATA_FILE_SIZE: 41678346
BYTE_COUNT: 5451
