FILENAME: O4810961.SES.1080635.tif
QUADRANGLE_NAME: BLUE STONE PEAK
QUADRANT: SE
WEST_LONGITUDE: -109 26 15.00000
EAST_LONGITUDE: -109 22 30.00000
NORTH_LATITUDE: 48 3 45.00000
SOUTH_LATITUDE: 48 0 0.00000
PRODUCTION_DATE: 2000 5 19
RASTER_ORDER: LEFT_RIGHT/TOP_BOTTOM
BAND_ORGANIZATION: SINGLE FILE
BAND_CONTENT: BLACK&WHITE
BAND_CONTENT: UNDEFINED
BAND_CONTENT: UNDEFINED
BITS_PER_PIXEL: 8
SAMPLES_AND_LINES: 5462 7649
HORIZONTAL_DATUM: NAD83
HORIZONTAL_COORDINATE_SYSTEM: UTM
COORDINATE_ZONE: 12
HORIZONTAL_UNITS: METERS
HORIZONTAL_RESOLUTION: 1.00000
SECONDARY_HORIZONTAL_DATUM: NAD27
XY_ORIGIN: 616056.00000 5324825.00000
SECONDARY_XY_ORIGIN: 616114.78900 5324608.79000
NATION: US
NATION: "SCIENCE
STATE: MT
NW_QUAD_CORNER_XY: 616413.10100 5324427.79600
NE_QUAD_CORNER_XY: 621069.49600 5324524.17000
SE_QUAD_CORNERY_XY: 621216.01400 5317577.80900
SW_QUAD_CORNER_XY: 616553.98200 5317481.41300
SECONDARY_NW_QUAD_XY: 616416.77000 5324208.93800
SECONDARY_NE_QUAD_XY: 621073.31100 5324305.31500
SECONDARY_SE_QUAD_XY: 621219.82900 5317358.96800
SECONDARY_SW_QUAD_XY: 616557.65000 5317262.56900
RMSE_XY: 1.80000
IMAGE_SOURCE: BLACK AND WHITE FILM
SOURCE_IMAGE_ID: NAPP 9160 050
SOURCE_IMAGE_DATE: 1997 09 23
SOURCE_IMAGE_ID: NAPP 9159 036
SOURCE_IMAGE_DATE: 1997 09 22
SOURCE_IMAGE_ID: NAPP 9163 024
SOURCE_IMAGE_DATE: 1998 07 23
SOURCE_IMAGE_ID: NAPP 9160 051
SOURCE_IMAGE_DATE: 1997 09 23
SOURCE_DEM_DATE: 1983 00 00
AGENCY: WESTERN MAPPING CENTER (WMC)
PRODUCER: UNDEFINED
PRODUCTION_SYSTEM: GIS/MAGIC
COMPRESSION: UNDEFINED
STANDARD_VERSION: 1996 12
METADATA_DATE: 2000 06 14
DATA_FILE_SIZE: 41784300
BYTE_COUNT: 5462
