FILENAME: O4810960.SWS.1080588.tif
QUADRANGLE_NAME: WARRICK
QUADRANT: SW
WEST_LONGITUDE: -109 37 30.00000
EAST_LONGITUDE: -109 33 45.00000
NORTH_LATITUDE: 48 3 45.00000
SOUTH_LATITUDE: 48 0 0.00000
PRODUCTION_DATE: 2000 6 5
RASTER_ORDER: LEFT_RIGHT/TOP_BOTTOM
BAND_ORGANIZATION: SINGLE FILE
BAND_CONTENT: BLACK&WHITE
BAND_CONTENT: UNDEFINED
BAND_CONTENT: UNDEFINED
BITS_PER_PIXEL: 8
SAMPLES_AND_LINES: 5444 7638
HORIZONTAL_DATUM: NAD83
HORIZONTAL_COORDINATE_SYSTEM: UTM
COORDINATE_ZONE: 12
HORIZONTAL_UNITS: METERS
HORIZONTAL_RESOLUTION: 1.00000
SECONDARY_HORIZONTAL_DATUM: NAD27
XY_ORIGIN: 602087.00000 5324547.00000
SECONDARY_XY_ORIGIN: 602145.90500 5324330.84000
NATION: US
NATION: "SCIENCE
STATE: MT
NW_QUAD_CORNER_XY: 602443.83200 5324161.35900
NE_QUAD_CORNER_XY: 607100.26800 5324246.39100
SE_QUAD_CORNERY_XY: 607229.87400 5317299.96600
SW_QUAD_CORNER_XY: 602567.80100 5317214.91500
SECONDARY_NW_QUAD_XY: 602447.06000 5323942.49300
SECONDARY_NE_QUAD_XY: 607103.64300 5324027.52700
SECONDARY_SE_QUAD_XY: 607233.24900 5317081.11700
SECONDARY_SW_QUAD_XY: 602571.02800 5316996.06300
RMSE_XY: 1.20000
IMAGE_SOURCE: BLACK AND WHITE FILM
SOURCE_IMAGE_ID: NAPP 9159 151
SOURCE_IMAGE_DATE: 1997 09 22
SOURCE_IMAGE_ID: NAPP 9159 150
SOURCE_IMAGE_DATE: 1997 09 22
SOURCE_IMAGE_ID: NAPP 9159 152
SOURCE_IMAGE_DATE: 1997 09 22
SOURCE_DEM_DATE: 1975 00 00
AGENCY: WESTERN MAPPING CENTER (WMC)
PRODUCER: UNDEFINED
PRODUCTION_SYSTEM: GIS/MAGIC
COMPRESSION: UNDEFINED
STANDARD_VERSION: 1996 12
METADATA_DATE: 2000 06 14
DATA_FILE_SIZE: 41586716
BYTE_COUNT: 5444
