FILENAME: O4810959.SES.1080536.tif
QUADRANGLE_NAME: TIGER BUTTE
QUADRANT: SE
WEST_LONGITUDE: -109 41 15.00000
EAST_LONGITUDE: -109 37 30.00000
NORTH_LATITUDE: 48 3 45.00000
SOUTH_LATITUDE: 48 0 0.00000
PRODUCTION_DATE: 2000 6 2
RASTER_ORDER: LEFT_RIGHT/TOP_BOTTOM
BAND_ORGANIZATION: SINGLE FILE
BAND_CONTENT: BLACK&WHITE
BAND_CONTENT: UNDEFINED
BAND_CONTENT: UNDEFINED
BITS_PER_PIXEL: 8
SAMPLES_AND_LINES: 5439 7634
HORIZONTAL_DATUM: NAD83
HORIZONTAL_COORDINATE_SYSTEM: UTM
COORDINATE_ZONE: 12
HORIZONTAL_UNITS: METERS
HORIZONTAL_RESOLUTION: 1.00000
SECONDARY_HORIZONTAL_DATUM: NAD27
XY_ORIGIN: 597430.00000 5324462.00000
SECONDARY_XY_ORIGIN: 597488.92600 5324245.87200
NATION: US
NATION: "SCIENCE
STATE: MT
NW_QUAD_CORNER_XY: 597787.38200 5324080.10800
NE_QUAD_CORNER_XY: 602443.83200 5324161.35900
SE_QUAD_CORNERY_XY: 602567.80100 5317214.91500
SW_QUAD_CORNER_XY: 597905.71400 5317133.64500
SECONDARY_NW_QUAD_XY: 597790.46300 5323861.23900
SECONDARY_NE_QUAD_XY: 602447.06000 5323942.49300
SECONDARY_SE_QUAD_XY: 602571.02800 5316996.06300
SECONDARY_SW_QUAD_XY: 597908.79500 5316914.79000
RMSE_XY: 0.80000
IMAGE_SOURCE: BLACK AND WHITE FILM
SOURCE_IMAGE_ID: NAPP 9159 216
SOURCE_IMAGE_DATE: 1997 09 22
SOURCE_IMAGE_ID: NAPP 9160 092
SOURCE_IMAGE_DATE: 1997 09 23
SOURCE_IMAGE_ID: NAPP 9159 217
SOURCE_IMAGE_DATE: 1997 09 22
SOURCE_IMAGE_ID: NAPP 9159 215
SOURCE_IMAGE_DATE: 1997 09 22
SOURCE_DEM_DATE: 1975 00 00
AGENCY: WESTERN MAPPING CENTER (WMC)
PRODUCER: UNDEFINED
PRODUCTION_SYSTEM: GIS/MAGIC
COMPRESSION: UNDEFINED
STANDARD_VERSION: 1996 12
METADATA_DATE: 2000 06 14
DATA_FILE_SIZE: 41526765
BYTE_COUNT: 5439
