FILENAME: O4810958.NES.1080490.tif
QUADRANGLE_NAME: RYAN BUTTE
QUADRANT: NE
WEST_LONGITUDE: -109 48 45.00000
EAST_LONGITUDE: -109 45 0.00000
NORTH_LATITUDE: 48 7 30.00000
SOUTH_LATITUDE: 48 3 45.00000
PRODUCTION_DATE: 2000 6 2
RASTER_ORDER: LEFT_RIGHT/TOP_BOTTOM
BAND_ORGANIZATION: SINGLE FILE
BAND_CONTENT: BLACK&WHITE
BAND_CONTENT: UNDEFINED
BAND_CONTENT: UNDEFINED
BITS_PER_PIXEL: 8
SAMPLES_AND_LINES: 5422 7626
HORIZONTAL_DATUM: NAD83
HORIZONTAL_COORDINATE_SYSTEM: UTM
COORDINATE_ZONE: 12
HORIZONTAL_UNITS: METERS
HORIZONTAL_RESOLUTION: 1.00000
SECONDARY_HORIZONTAL_DATUM: NAD27
XY_ORIGIN: 588010.00000 5331250.00000
SECONDARY_XY_ORIGIN: 588068.95600 5331033.77000
NATION: US
NATION: "SCIENCE
STATE: MT
NW_QUAD_CORNER_XY: 588367.28000 5330875.51600
NE_QUAD_CORNER_XY: 593018.11200 5330949.19000
SE_QUAD_CORNERY_XY: 593130.92000 5324002.63700
SW_QUAD_CORNER_XY: 588474.44600 5323928.94600
SECONDARY_NW_QUAD_XY: 588370.06800 5330656.62900
SECONDARY_NE_QUAD_XY: 593021.04700 5330730.30500
SECONDARY_SE_QUAD_XY: 593133.85400 5323783.76600
SECONDARY_SW_QUAD_XY: 588477.23400 5323710.07200
RMSE_XY: 1.40000
IMAGE_SOURCE: BLACK AND WHITE FILM
SOURCE_IMAGE_ID: NAPP 9160 045
SOURCE_IMAGE_DATE: 1997 09 23
SOURCE_IMAGE_ID: NAPP 9160 027
SOURCE_IMAGE_DATE: 1997 09 23
SOURCE_IMAGE_ID: NAPP 9160 046
SOURCE_IMAGE_DATE: 1997 09 23
SOURCE_IMAGE_ID: NAPP 9160 044
SOURCE_IMAGE_DATE: 1997 09 23
SOURCE_IMAGE_ID: NAPP 9160 089
SOURCE_IMAGE_DATE: 1997 09 23
SOURCE_DEM_DATE: 1975 00 00
AGENCY: WESTERN MAPPING CENTER (WMC)
PRODUCER: UNDEFINED
PRODUCTION_SYSTEM: GIS/MAGIC
COMPRESSION: UNDEFINED
STANDARD_VERSION: 1996 12
METADATA_DATE: 2000 06 14
DATA_FILE_SIZE: 41353594
BYTE_COUNT: 5422
