FILENAME: O4810958.SWS.1080509.tif
QUADRANGLE_NAME: RYAN BUTTE
QUADRANT: SW
WEST_LONGITUDE: -109 52 30.00000
EAST_LONGITUDE: -109 48 45.00000
NORTH_LATITUDE: 48 3 45.00000
SOUTH_LATITUDE: 48 0 0.00000
PRODUCTION_DATE: 2000 6 2
RASTER_ORDER: LEFT_RIGHT/TOP_BOTTOM
BAND_ORGANIZATION: SINGLE FILE
BAND_CONTENT: BLACK&WHITE
BAND_CONTENT: UNDEFINED
BAND_CONTENT: UNDEFINED
BITS_PER_PIXEL: 8
SAMPLES_AND_LINES: 5423 7622
HORIZONTAL_DATUM: NAD83
HORIZONTAL_COORDINATE_SYSTEM: UTM
COORDINATE_ZONE: 12
HORIZONTAL_UNITS: METERS
HORIZONTAL_RESOLUTION: 1.00000
SECONDARY_HORIZONTAL_DATUM: NAD27
XY_ORIGIN: 583460.00000 5324229.00000
SECONDARY_XY_ORIGIN: 583518.89300 5324013.05600
NATION: US
NATION: "SCIENCE
STATE: MT
NW_QUAD_CORNER_XY: 583817.96100 5323859.03500
NE_QUAD_CORNER_XY: 588474.44600 5323928.94600
SE_QUAD_CORNERY_XY: 588581.50600 5316982.44800
SW_QUAD_CORNER_XY: 583919.38500 5316912.52100
SECONDARY_NW_QUAD_XY: 583820.60200 5323640.15900
SECONDARY_NE_QUAD_XY: 588477.23400 5323710.07200
SECONDARY_SE_QUAD_XY: 588584.29300 5316763.58900
SECONDARY_SW_QUAD_XY: 583922.02600 5316693.66000
RMSE_XY: 1.00000
IMAGE_SOURCE: BLACK AND WHITE FILM
SOURCE_IMAGE_ID: NAPP 9160 024
SOURCE_IMAGE_DATE: 1997 09 23
SOURCE_DEM_DATE: 1975 00 00
AGENCY: WESTERN MAPPING CENTER (WMC)
PRODUCER: UNDEFINED
PRODUCTION_SYSTEM: GIS/MAGIC
COMPRESSION: UNDEFINED
STANDARD_VERSION: 1996 12
METADATA_DATE: 2000 06 14
DATA_FILE_SIZE: 41339529
BYTE_COUNT: 5423
