FILENAME: O4810956.NWS.1115724.tif
QUADRANGLE_NAME: SUCTION BUTTE
QUADRANT: NW
WEST_LONGITUDE: -109 7 30.00000
EAST_LONGITUDE: -109 3 45.00000
NORTH_LATITUDE: 48 15 0.00000
SOUTH_LATITUDE: 48 11 15.00000
PRODUCTION_DATE: 2000 11 10
RASTER_ORDER: LEFT_RIGHT/TOP_BOTTOM
BAND_ORGANIZATION: SINGLE FILE
BAND_CONTENT: BLACK&WHITE
BAND_CONTENT: UNDEFINED
BAND_CONTENT: UNDEFINED
BITS_PER_PIXEL: 8
SAMPLES_AND_LINES: 5472 7667
HORIZONTAL_DATUM: NAD83
HORIZONTAL_COORDINATE_SYSTEM: UTM
COORDINATE_ZONE: 12
HORIZONTAL_UNITS: METERS
HORIZONTAL_RESOLUTION: 1.00000
SECONDARY_HORIZONTAL_DATUM: NAD27
XY_ORIGIN: 638831.00000 5346202.00000
SECONDARY_XY_ORIGIN: 638889.35700 5345985.31700
NATION: US
NATION: "SCIENCE
STATE: MT
NW_QUAD_CORNER_XY: 639186.69600 5345786.67900
NE_QUAD_CORNER_XY: 643826.05800 5345901.87800
SE_QUAD_CORNERY_XY: 644001.28700 5338955.43800
SW_QUAD_CORNER_XY: 639356.27000 5338840.21100
SECONDARY_NW_QUAD_XY: 639191.09900 5345567.80000
SECONDARY_NE_QUAD_XY: 643830.60700 5345683.00200
SECONDARY_SE_QUAD_XY: 644005.83700 5338736.57400
SECONDARY_SW_QUAD_XY: 639360.67300 5338621.34400
RMSE_XY: 1.90000
IMAGE_SOURCE: BLACK AND WHITE FILM
SOURCE_IMAGE_ID: NAPP 9129 218
SOURCE_IMAGE_DATE: 1996 07 27
SOURCE_IMAGE_ID: NAPP 9145 125
SOURCE_IMAGE_DATE: 1996 08 25
SOURCE_DEM_DATE: 1987 00 00
AGENCY: WESTERN MAPPING CENTER (WMC)
PRODUCER: UNDEFINED
PRODUCTION_SYSTEM: GIS/MAGIC
COMPRESSION: UNDEFINED
STANDARD_VERSION: 1996 12
METADATA_DATE: 2000 11 29
DATA_FILE_SIZE: 41959296
BYTE_COUNT: 5472
