FILENAME: O4810956.SES.1115725.tif
QUADRANGLE_NAME: SUCTION BUTTE
QUADRANT: SE
WEST_LONGITUDE: -109 3 45.00000
EAST_LONGITUDE: -109 0 0.00000
NORTH_LATITUDE: 48 11 15.00000
SOUTH_LATITUDE: 48 7 30.00000
PRODUCTION_DATE: 2000 10 30
RASTER_ORDER: LEFT_RIGHT/TOP_BOTTOM
BAND_ORGANIZATION: SINGLE FILE
BAND_CONTENT: BLACK&WHITE
BAND_CONTENT: UNDEFINED
BAND_CONTENT: UNDEFINED
BITS_PER_PIXEL: 8
SAMPLES_AND_LINES: 5482 7671
HORIZONTAL_DATUM: NAD83
HORIZONTAL_COORDINATE_SYSTEM: UTM
COORDINATE_ZONE: 12
HORIZONTAL_UNITS: METERS
HORIZONTAL_RESOLUTION: 1.00000
SECONDARY_HORIZONTAL_DATUM: NAD27
XY_ORIGIN: 643646.00000 5339375.00000
SECONDARY_XY_ORIGIN: 643704.42300 5339158.49700
NATION: US
NATION: "SCIENCE
STATE: MT
NW_QUAD_CORNER_XY: 644001.28700 5338955.43800
NE_QUAD_CORNER_XY: 648646.28600 5339074.44600
SE_QUAD_CORNERY_XY: 648826.99400 5332128.10200
SW_QUAD_CORNER_XY: 644176.34500 5332009.06600
SECONDARY_NW_QUAD_XY: 644005.83700 5338736.57400
SECONDARY_NE_QUAD_XY: 648650.98200 5338855.58600
SECONDARY_SE_QUAD_XY: 648831.69000 5331909.25400
SECONDARY_SW_QUAD_XY: 644180.89400 5331790.21400
RMSE_XY: 1.70000
IMAGE_SOURCE: BLACK AND WHITE FILM
SOURCE_IMAGE_ID: NAPP 9129 022
SOURCE_IMAGE_DATE: 1996 07 27
SOURCE_DEM_DATE: 1987 00 00
AGENCY: WESTERN MAPPING CENTER (WMC)
PRODUCER: UNDEFINED
PRODUCTION_SYSTEM: GIS/MAGIC
COMPRESSION: UNDEFINED
STANDARD_VERSION: 1996 12
METADATA_DATE: 2000 11 29
DATA_FILE_SIZE: 42057904
BYTE_COUNT: 5482
