FILENAME: O4810954.NES.1115675.tif
QUADRANGLE_NAME: CORRIGAN MOUNTAIN
QUADRANT: NE
WEST_LONGITUDE: -109 18 45.00000
EAST_LONGITUDE: -109 15 0.00000
NORTH_LATITUDE: 48 15 0.00000
SOUTH_LATITUDE: 48 11 15.00000
PRODUCTION_DATE: 2000 10 30
RASTER_ORDER: LEFT_RIGHT/TOP_BOTTOM
BAND_ORGANIZATION: SINGLE FILE
BAND_CONTENT: BLACK&WHITE
BAND_CONTENT: UNDEFINED
BAND_CONTENT: UNDEFINED
BITS_PER_PIXEL: 8
SAMPLES_AND_LINES: 5456 7656
HORIZONTAL_DATUM: NAD83
HORIZONTAL_COORDINATE_SYSTEM: UTM
COORDINATE_ZONE: 12
HORIZONTAL_UNITS: METERS
HORIZONTAL_RESOLUTION: 1.00000
SECONDARY_HORIZONTAL_DATUM: NAD27
XY_ORIGIN: 624912.00000 5345868.00000
SECONDARY_XY_ORIGIN: 624970.50400 5345651.22200
NATION: US
NATION: "SCIENCE
STATE: MT
NW_QUAD_CORNER_XY: 625268.50300 5345463.75700
NE_QUAD_CORNER_XY: 629907.91800 5345567.61900
SE_QUAD_CORNERY_XY: 630066.18100 5338621.09700
SW_QUAD_CORNER_XY: 625421.11100 5338517.21000
SECONDARY_NW_QUAD_XY: 625272.46600 5345244.86700
SECONDARY_NE_QUAD_XY: 629912.02800 5345348.73200
SECONDARY_SE_QUAD_XY: 630070.29000 5338402.22300
SECONDARY_SW_QUAD_XY: 625425.07300 5338298.33200
RMSE_XY: 1.50000
IMAGE_SOURCE: BLACK AND WHITE FILM
SOURCE_IMAGE_ID: NAPP 9156 020
SOURCE_IMAGE_DATE: 1997 08 29
SOURCE_DEM_DATE: 1987 00 00
AGENCY: WESTERN MAPPING CENTER (WMC)
PRODUCER: UNDEFINED
PRODUCTION_SYSTEM: GIS/MAGIC
COMPRESSION: UNDEFINED
STANDARD_VERSION: 1996 12
METADATA_DATE: 2000 11 10
DATA_FILE_SIZE: 41776592
BYTE_COUNT: 5456
